BEGIN:VCALENDAR
VERSION:2.0
PRODID:-//https://faithvictoria.org.au///NONSGML kigkonsult.se iCalcreator 2.10.15//
METHOD:PUBLISH
BEGIN:VEVENT
UID:20260423T172208UTC-6990PggKmV@https://faithvictoria.org.au/
DTSTAMP:20260423T172208Z
DESCRIPTION:The City of Greater Dandenong Interfaith Network invites you to
 :\nA Tour to Places of Worship 2023\nDate:&nbsp\;Wednesday&nbsp\;9 August 
 2023&nbsp\; &nbsp\; &nbsp\; &nbsp\;Time:&nbsp\;8:30am to 3:15pm&nbsp\;Tour
  departs from:&nbsp\;Interfaith Network Office\, 39 Clow Street\, Dandenon
 g (Free parking available off Stuart Street\, behind IFN Office)\nTour Gui
 de:&nbsp\;Mrs Anita Davine &amp\; Mrs Roz Blades\nTour includes:\n\nSt Pan
 teleimon Greek Orthodox Church | 19 Herbert Street\, Dandenong | Host:&nbs
 p\;Reverend Father Anthony Krinas\nMorning Tea\nSt Kilda Hebrew Congregati
 on (Synagogue) | 12 Charnwood Grove\, St Kilda | Host: President Janice Il
 oni-Furtenberg\nVegetarian Lunch provided by host:&nbsp\;Melbourne Mahapra
 bhu Mandir (Hare Krishna Temple)\; donation ($10-$15) towards lunch is app
 reciated\nKhmer Buddhist Temple | 458-462 Springvale Rd\, Springvale South
 | Host: The Abbott - Venerable Then\nReturn to Interfaith Network Office\,
  Dandenong\nDebriefing and Refreshments | 39 Clow Street\, Dandenong&nbsp\
 ;\n\nCost:&nbsp\;$25 - covers transport and 'Many Faiths\, One People' boo
 k\nRespectful Practices:\n\nModest clothing worn in all Places of Worship 
 would be appreciated.\nAll are requested to remove their shoes before ente
 ring the Sikh Gurdwara\, Hindu and Buddhist Temples and Mosque.\nAll are a
 sked to wear socks on entering the Mosque and women entering the Mosque ar
 e asked to cover their heads and wear clothing which covers arms to wrists
  and legs to ankles\, men are asked to cover their heads in the Jewish Syn
 agogue\, and all are asked to cover their heads in the Gurdwara.\nPLEASE B
 RING YOUR OWN HEAD COVERING FOR THE MOSQUE\; head covering is only provide
 d in the Synagogue &amp\; Gurdwara.&nbsp\;\nVisitors should have no tobacc
 o on their person when entering the Gurdwara\n\nFurther Information:&nbsp\
 ;Stacey Odwazny: 03 8774 7662 | 0411 968 525 |&nbsp\;interfaithofficer@int
 erfaithnetwork.org.au\nFlyer here.&nbsp\; https://faithvictoria.org.au/upc
 oming-events/event/2019-tour-2-to-places-of-worship-2023-interfaith-networ
 k-of-greater-dandenong
DTSTART:20230809T083000Z
DTEND:20230809T153000Z
LOCATION:Interfaith Network Office\, 39 Clow Street\, Dandenong VIC 3175 (3
 9 Clow St\, Dandenong VIC 3175\, Australia)
SUMMARY:Tour 2 to Places of Worship 2023: Interfaith Network of Greater Dan
 denong
URL:https://faithvictoria.org.au/upcoming-events/event/2019-tour-2-to-place
 s-of-worship-2023-interfaith-network-of-greater-dandenong
END:VEVENT
END:VCALENDAR
