BEGIN:VCALENDAR
VERSION:2.0
PRODID:-//https://faithvictoria.org.au///NONSGML kigkonsult.se iCalcreator 2.10.15//
METHOD:PUBLISH
BEGIN:VEVENT
UID:20260424T115612UTC-7087sJ6hvb@https://faithvictoria.org.au/
DTSTAMP:20260424T115612Z
DESCRIPTION:Holy Day: Ashura\nDate: Friday 28 July 2023*Faith: Islam  A vol
 untary day of fasting which commemorates the day Noah left the Ark\, and t
 he day that Moses was saved from the Egyptians by God. For Shi'a Muslims\,
  Ashura is a day of mourning for the martyrdom of Hussein\, grandson of Pr
 ophet Muhammad\, in 680 AD at Karbala (now Iraq).  * Begins at sundown on 
 the previous day listed https://faithvictoria.org.au/upcoming-events/event
 /1975-ashura-islam
DTSTART;VALUE=DATE:20230728
LOCATION:RSEvents!Pro Location (Colorado\, USA)
SUMMARY:Ashura | Islam 	
URL:https://faithvictoria.org.au/upcoming-events/event/1975-ashura-islam
END:VEVENT
END:VCALENDAR
