BEGIN:VCALENDAR
VERSION:2.0
PRODID:-//https://faithvictoria.org.au///NONSGML kigkonsult.se iCalcreator 2.10.15//
METHOD:PUBLISH
BEGIN:VEVENT
UID:20260426T031214UTC-18321bAuHx@https://faithvictoria.org.au/
DTSTAMP:20260426T031214Z
DESCRIPTION:The Bendigo Interfaith Council invites you to:\nTranquility Zon
 e\nDate: Saturday 28 July 2018&nbsp\; &nbsp\; &nbsp\; &nbsp\;Time: 3:15pm 
 for a 3:30pm start to 4:30pmLocation:&nbsp\;Bendigo Library\, 251-259 Harg
 reaves Street\, Bendigo\, Victoria 3550\nTake time to quiet your mind and 
 reconnect with your spirit and tranquil environment.&nbsp\;Let&rsquo\;s li
 sten to words of wisdom from the world&rsquo\;s spiritual traditions and g
 et inspired to transform our lives and our communities\, with actions that
  promote the unity and betterment of society. The program will consist of 
 readings followed by discussion and light refreshments.\nAll are welcome |
  Free event\nMore information:&nbsp\;03 5400 2922 |&nbsp\;tranquilityzoneb
 endigo@gmail.com&nbsp\; https://faithvictoria.org.au/upcoming-events/event
 /1385-tranquility-zone-bendigo-interfaith-council
DTSTART:20180728T151500Z
DTEND:20180728T163000Z
LOCATION:Bendigo Library\, 251-259 Hargreaves Street\, Bendigo\, Victoria 3
 550 (251-259 Hargreaves St\, Bendigo VIC 3550\, Australia)
SUMMARY:Tranquility Zone: Bendigo Interfaith Council
URL:https://faithvictoria.org.au/upcoming-events/event/1385-tranquility-zon
 e-bendigo-interfaith-council
END:VEVENT
END:VCALENDAR
