BEGIN:VCALENDAR
VERSION:2.0
PRODID:-//https://faithvictoria.org.au///NONSGML kigkonsult.se iCalcreator 2.10.15//
METHOD:PUBLISH
BEGIN:VEVENT
UID:20260424T132605UTC-5021xK9KV2@https://faithvictoria.org.au/
DTSTAMP:20260424T132605Z
DESCRIPTION:\nHoly Day: Tisha B'Av \nDate: Thursday 27&nbsp\;August 2023Fai
 th: Judaism\nDescription:Tisha B'Av (Fast of Av) is a day of mourning to r
 emember events such as the destruction of the First Temple and Second Temp
 le in Jerusalem.\n* Begins at sundown on the previous day listed https://f
 aithvictoria.org.au/upcoming-events/event/1974-tisha-bav-judaism
DTSTART;VALUE=DATE:20230727
LOCATION:RSEvents!Pro Location (Colorado\, USA)
SUMMARY:Tisha B'Av | Judaism
URL:https://faithvictoria.org.au/upcoming-events/event/1974-tisha-bav-judai
 sm
END:VEVENT
END:VCALENDAR
