BEGIN:VCALENDAR
VERSION:2.0
PRODID:-//https://faithvictoria.org.au///NONSGML kigkonsult.se iCalcreator 2.10.15//
METHOD:PUBLISH
BEGIN:VEVENT
UID:20260426T002543UTC-3168oukgCV@https://faithvictoria.org.au/
DTSTAMP:20260426T002543Z
DESCRIPTION:The Kingston Interfaith Network invites you to:\nComing togethe
 r as Young People of Faith working towards Tolerance and Unity |&nbsp\;Pan
 el Discussion\nDate: Thursday 26 July 2018&nbsp\; &nbsp\; Time: 7pm to 9pm
 Location:&nbsp\;Church of Jesus Christ of Latter Day Saints\, 2 Barbara St
 \, Moorabbin\, VIC 3189\nKingston Council supports meaningful interfaith d
 ialogue\, while recognizing the integrity of our individual faiths. As a m
 atter of fact the Kingston Interfaith Network Committee has been establish
 ed by Council to provide a conduit between Kingston Council and the Faith 
 communities within local areas to encourage open communication\, interfait
 h dialogue and partnerships to address the needs of the local communities.
  Interfaith dialogue has become essential in order to help more people dis
 cover\, celebrate and promote the reality of pluralism in our community. I
 t is important that people respect and have appreciation for other&rsquo\;
 s faith traditions. Promoting interfaith dialogue among young Kingston Com
 mittee hopes to build relationships\, identify commonly-held beliefs and e
 nhance the participants&rsquo\; own faith experience. This event will be f
 acilitated by Committee members who will organize the presentation of the 
 panel\, introduce panellists\, help with time management\, and facilitate 
 an effective discussion of the topic with members of the audience.\nPanell
 ists from the following faiths: Islam\, Judaism\, Church of Jesus Christ o
 f Latter Day Saints\, Catholic and Hare Krishna.\nRefreshments will be pro
 vided. All are welcome.\nCost: FreeRSVP:&nbsp\;Friday 20 July 2018 | Elisa
 betta Robecchi | 03&nbsp\;9581 4783 |&nbsp\;elisabetta.robecchi@kingston.v
 ic.gov.au&nbsp\; https://faithvictoria.org.au/upcoming-events/event/1379-c
 oming-together-as-young-people-of-faith-working-towards-tolerance-and-unit
 y-kingston-interfaith-network
DTSTART:20180726T190000Z
DTEND:20180726T210000Z
LOCATION:Church of Jesus Christ of Latter Day Saints\, 2 Barbara St\, Moora
 bbin\, VIC 3189 (2 Barbara St\, Moorabbin VIC 3189\, Australia)
SUMMARY:Coming together as Young People of Faith working towards Tolerance 
 and Unity: Kingston Interfaith Network
URL:https://faithvictoria.org.au/upcoming-events/event/1379-coming-together
 -as-young-people-of-faith-working-towards-tolerance-and-unity-kingston-int
 erfaith-network
END:VEVENT
END:VCALENDAR
