BEGIN:VCALENDAR
VERSION:2.0
PRODID:-//https://faithvictoria.org.au///NONSGML kigkonsult.se iCalcreator 2.10.15//
METHOD:PUBLISH
BEGIN:VEVENT
UID:20260425T171203UTC-5755dOpBkH@https://faithvictoria.org.au/
DTSTAMP:20260425T171203Z
DESCRIPTION:The Australian Catholic University invites you to:\nMeditation 
 Traditions Across Religions\nDate: Saturday 21 July 2018&nbsp\; &nbsp\; &n
 bsp\;Time: 5pm to 6pmLocation:&nbsp\;Australian Catholic University Melbou
 rne Campus - 115 Victoria Parade Fitzroy Victoria 3065\nThe overarching th
 eme of this innovative conference program is Meditation and Society.&nbsp\
 ;Beyond the view of meditation as a personal practice\, our speakers and d
 elegates will&nbsp\;share their understanding of how the myriad forms of m
 editation contribute at a societal&nbsp\;level\, enhancing collective well
 being and creating cultural change.\nThe panelists for 'Meditation Traditi
 ons Across Religions' are:&nbsp\;\n\nProfessor John D&rsquo\;Arcy May | Mo
 derator\nDr Anita Ray | Hinduism\nDr Christiaan Jacobs-Vandegeer | Christi
 anity\nAssociate Professor Salih Yucel | Islam/Sufism\n\nClick here for mo
 re information about the conference\, and download the program. For regist
 ration information\, please click here.&nbsp\; https://faithvictoria.org.a
 u/upcoming-events/event/1384-meditation-traditions-across-religions-austra
 lian-catholic-university
DTSTART:20180721T170000Z
DTEND:20180721T180000Z
LOCATION:Australian Catholic University Melbourne Campus - 115 Victoria Par
 ade Fitzroy Victoria 3065 (Australian Catholic University Melbourne Campus
  - 115 Victoria Parade Fitzroy Victoria 3065)
SUMMARY:Meditation Traditions Across Religions: Australian Catholic Univers
 ity
URL:https://faithvictoria.org.au/upcoming-events/event/1384-meditation-trad
 itions-across-religions-australian-catholic-university
END:VEVENT
END:VCALENDAR
