BEGIN:VCALENDAR
VERSION:2.0
PRODID:-//https://faithvictoria.org.au///NONSGML kigkonsult.se iCalcreator 2.10.15//
METHOD:PUBLISH
BEGIN:VEVENT
UID:20260425T034721UTC-1380gHIc25@https://faithvictoria.org.au/
DTSTAMP:20260425T034721Z
DESCRIPTION:\nHoly Day: Hijra\nDate: Wednesday 19 July 2023*Faith: Islam  D
 escription: The Islamic year is marked by the event known as Hijra which o
 ccurred in 622 CE\, when the Prophet Muhammad migrated from Mecca to Medin
 a\, where the first Islamic community was established.  * Begins at sundow
 n on the previous day listed https://faithvictoria.org.au/upcoming-events/
 event/1973-hijra-islam
DTSTART;VALUE=DATE:20230719
LOCATION:RSEvents!Pro Location (Colorado\, USA)
SUMMARY:Hijra | Islam 	
URL:https://faithvictoria.org.au/upcoming-events/event/1973-hijra-islam
END:VEVENT
END:VCALENDAR
