BEGIN:VCALENDAR
VERSION:2.0
PRODID:-//https://faithvictoria.org.au///NONSGML kigkonsult.se iCalcreator 2.10.15//
METHOD:PUBLISH
BEGIN:VEVENT
UID:20260424T225942UTC-6063Vj6EgU@https://faithvictoria.org.au/
DTSTAMP:20260424T225942Z
DESCRIPTION:Women's Federation for World Peace (WFWP) Australia and The Wor
 ld Peace Prayer Society invite you to: \nFaith Stories | Conversations and
  Story TellingA Focus on Eastern Faiths and Philosophies\nDate: Saturday 7
  July 2018&nbsp\; &nbsp\; &nbsp\;Time: 10am to 2:30pmLocation: Belgrave Fa
 mily Church VIC\, 42-46 Bartley Rd\, Belgrave Heights VIC 3160\nEmbrace di
 versity\, strengthen communities!&nbsp\; Listen to different speakers shar
 ing their inspirational Faith Stories. Connect and share your own stories 
 with the wider community!\nMore about the Speakers:\n\nVenerable Bhikkhuni
  Bodhicitta is a Sri Lankan Theravada Buddhist nun who is based in Melbour
 ne\, Australia. She is the Spiritual Director of International Centre for 
 Inner Peace and Happiness Inc. in Victoria\, and Buddhist Chaplain at RMIT
  University\, Melbourne\, Australia. She has conducted numerous meditation
  retreats\, lectures\, Dhamma talks\, and discussions in Australia\, Malay
 sia\, and Sri Lanka. She is a renowned meditation teacher with over 25 yea
 rs of experience.\nAnda McMillan joined The World Peace Prayer Society in 
 2013 (the&nbsp\; organisation was founded in Japan in 1950) and has since 
 coordinated a small but enthusiastic group of peace advocates in West Gipp
 sland. The group meets twice monthly to share practices which promote the 
 idea that world-wide peace&nbsp\; begins&nbsp\; with&nbsp\; developing&nbs
 p\; inner&nbsp\; peace&nbsp\; at&nbsp\; &nbsp\;the&nbsp\; &nbsp\;individua
 l&nbsp\; &nbsp\;level.&nbsp\; &nbsp\;The group has also hosted community e
 vents\, as part of world-wide initiatives such as Symphony of Peace Prayer
 s\, a forum to encourage interfaith dialogue\, and the UN-based Internatio
 nal Day of Peace.\nIrene Anania is a member of the Family Federation for W
 orld Peace and Unification\, which was founded in Korea in 1954. Irene has
  run her Wellness Therapies practice (Change Dynamics) since 2008\, while 
 at the same time teaching on and off and also running seminars and worksho
 ps for carers of people with mental health issues.\nParam Kaur is the Co-d
 irector of Sikh Australian Support for Family Violence (SASAF). She is als
 o a kindergarten teacher and a volunteer with Sikh Interfaith Council of V
 ictoria. She will be sharing with us the testimony of her life of faith: h
 er process of learning about love and dedication\, taught to her from her 
 mum since she was at a young age\; and her journey to embrace her faith an
 d values.\nGeeta Devi serves in several not for profit organisations as th
 e: Victorian State President of Vishva Hindu Parishad of Australia Inc. (W
 orld Hindu Council of Australia)\; and the Founding &amp\; Executive membe
 r of Indiancare Inc. She is also a life member of: Hindu Society of Victor
 ia Inc (Sri Shiva Vishnu Temple\, Carrum Downs)\; and Telugu Association o
 f Australia Inc. In these roles Geeta Devi is involved in delivering vario
 us community projects and strives to spread the message of unity in divers
 ity and to promote Sanatana Dharma values.\n\nBring a healthy plate to sha
 re.\nChildren welcome. Everyone welcome.\nCost: FreeTo RSVP\, please click
  here.For more information\, please click here. https://faithvictoria.org.
 au/upcoming-events/event/1377-faith-stories-family-federation-for-world-pe
 ace-and-unification
DTSTART:20180707T100000Z
DTEND:20180707T143000Z
LOCATION:Belgrave Family Church VIC\, 42-46 Bartley Rd\, Belgrave Heights V
 IC 3160 (42-46 Bartley Rd\, Belgrave Heights VIC 3160\, Australia)
SUMMARY:Faith Stories: Family Federation for World Peace and Unification
URL:https://faithvictoria.org.au/upcoming-events/event/1377-faith-stories-f
 amily-federation-for-world-peace-and-unification
END:VEVENT
BEGIN:VEVENT
UID:20260424T225942UTC-6082vv8upG@https://faithvictoria.org.au/
DTSTAMP:20260424T225942Z
DESCRIPTION:The Wyndham Interfaith Network invites you to:&nbsp\;\nAn intro
 duction to Wayapa and Aboriginal Spirituality |&nbsp\;NAIDOC week\nDate:&n
 bsp\;Saturday 7 July 2018&nbsp\; &nbsp\; Time: 10am to 12pmLocation: The F
 unction Room 1st Floor Wyndham Community &amp\; Education Centre\, 20 Syno
 tt Street\, Werribee\, VIC 3030\nAn introduction to Aboriginal Spiritual c
 onnection with the environment. Wayapa combines mindfulness\, traditional 
 Aboriginal movements and a narrative meditation in a series of 14 elements
  to teach participants the importance of connecting into the earth and nat
 ure for holistic wellness.\nTo register\, please click here.&nbsp\;Contact
 :&nbsp\;Laurence Gray | 0401 337 696 |&nbsp\;laurenceg@wyndhamcec.org.au h
 ttps://faithvictoria.org.au/upcoming-events/event/1381-wayapa-and-aborigin
 al-spirituality-wyndham-interfaith-network
DTSTART:20180707T100000Z
DTEND:20180707T120000Z
LOCATION:The Function Room 1st Floor Wyndham Community & Education Centre\,
  20 Synott Street\, Werribee\, VIC 3030 ()
SUMMARY:Wayapa and Aboriginal Spirituality: Wyndham Interfaith Network
URL:https://faithvictoria.org.au/upcoming-events/event/1381-wayapa-and-abor
 iginal-spirituality-wyndham-interfaith-network
END:VEVENT
END:VCALENDAR
