BEGIN:VCALENDAR
VERSION:2.0
PRODID:-//https://faithvictoria.org.au///NONSGML kigkonsult.se iCalcreator 2.10.15//
METHOD:PUBLISH
BEGIN:VEVENT
UID:20260422T042257UTC-4088SeIziv@https://faithvictoria.org.au/
DTSTAMP:20260422T042257Z
DESCRIPTION:Catalyst Enterprises invites you to:\nA Man Ahead of his time |
  William Cooper Legacy\nDate: Sunday 24 June 2018&nbsp\; &nbsp\; &nbsp\;Ti
 me: 7pm to 9pmLocation:&nbsp\;Etz Chayim Progressive Synagogue\, 549 Centr
 e Road\, Bentleigh\nThis event provides you an opportunity to learn about 
 the fascinating life of Aboriginal activist Uncle William (1860-1941) and 
 his esteemed legacy.&nbsp\;His grandson\, 89-year-old Uncle Boydie\, trave
 lled to Britain\, Belgium\, Beersheva and Berlin late last year and succes
 sfully closed the circle on several lifelong aspirations to honour his gra
 ndfather's lifetime efforts. Abe Schwartz&nbsp\;will update you on last ye
 ars' stunning developments.&nbsp\;You will also hear from Michael McDonogh
 \, the great-great grandson of Uncle William\, who speaks passionately abo
 ut his Elder - and will bring both an Aboriginal and a further spiritual a
 spect to what promises to be a fascinating 2 hours.\nCost: $20Bookings: 03
 &nbsp\;9563 9208 https://faithvictoria.org.au/upcoming-events/event/1376-w
 illiam-cooper-legacy-catalyst-enterprises
DTSTART:20180624T190000Z
DTEND:20180624T210000Z
LOCATION:Etz Chayim Progressive Synagogue\,  549 Centre Road Bentleigh (Etz
  Chayim Progressive Synagogue\, 549 Centre Road\, Bentleigh VIC 3204\, Aus
 tralia)
SUMMARY:William Cooper Legacy: Catalyst Enterprises
URL:https://faithvictoria.org.au/upcoming-events/event/1376-william-cooper-
 legacy-catalyst-enterprises
END:VEVENT
END:VCALENDAR
