BEGIN:VCALENDAR
VERSION:2.0
PRODID:-//https://faithvictoria.org.au///NONSGML kigkonsult.se iCalcreator 2.10.15//
METHOD:PUBLISH
BEGIN:VEVENT
UID:20260421T231104UTC-8755srFnSC@https://faithvictoria.org.au/
DTSTAMP:20260421T231104Z
DESCRIPTION:The Springvale Neighbourhood House invites you to:\nMultifaith 
 Refugee Week 2018\nDate: Thursday 21 June 2018&nbsp\; &nbsp\; &nbsp\;Time:
  11am to 2pmLocation:&nbsp\;Springvale Reserve\, Newcomen Rd\, Springvale\
 , Victoria\, Australia 3171\nCelebrate our vibrant community with current 
 &amp\; past migrants\, refugees and asylum seekers who have found their ne
 w home in Springvale.&nbsp\;Hear migration journey stories from past and p
 resent refugees.&nbsp\;Share a delicious lunch of Sri Lankan hoppers &amp\
 ; curries and Burmese salads.&nbsp\;Join a discussion on common beliefs wi
 th leaders from Muslim\, Buddhist\, Sikh and Christian faiths.\nFor more i
 nformation\, click on their Facebook page.&nbsp\; https://faithvictoria.or
 g.au/upcoming-events/event/1373-multi-faith-refugee-week-celebration-sprin
 gvale-neighbourhood-house
DTSTART:20180621T110000Z
DTEND:20180621T140000Z
LOCATION:Springvale Reserve\, Newcomen Rd\, Springvale\, Victoria\, Austral
 ia 3171 (Newcomen Rd\, Springvale VIC 3171\, Australia)
SUMMARY:Multi-Faith Refugee Week Celebration: Springvale Neighbourhood Hous
 e
URL:https://faithvictoria.org.au/upcoming-events/event/1373-multi-faith-ref
 ugee-week-celebration-springvale-neighbourhood-house
END:VEVENT
BEGIN:VEVENT
UID:20260421T231104UTC-8771a1zB2e@https://faithvictoria.org.au/
DTSTAMP:20260421T231104Z
DESCRIPTION:The Bendigo Interfaith Council invites you to:\nPeace and Love 
 Concert\nDate: Thursday 21 June 2018&nbsp\; &nbsp\; &nbsp\; &nbsp\; Time: 
 Gates open at 5:30pmLocation:&nbsp\;Uniting Church Forest Street\, 23 Fore
 st Street\, Bendigo\, Victoria 3550\nJoin us for an evening of music and f
 ood with His Grace Sriman Sankarshan Das Adhikari&rsquo\;s Bendigo Program
 .&nbsp\;\nAbout the Artist: His Grace SrimanSankarshan Das is a spiritual 
 teacher/singer-songwriter/visionary spiritually rooted in the ancient Vedi
 c teachings of India and musically rooted in the folk/acoustic music reviv
 al of the mid 60's from his days when he performed at Houston's legendary 
 folk music venue\, Sand Mountain\, the spawning ground of many musical gre
 ats.\nCost: Free entry and dinner&nbsp\;&nbsp\;RSVP: Monday 18 June 2018 |
  Raj 0458 670 949 | HD 0434 169 342\nFor more information\, please visit F
 acebook page.\nPlease share with your friends/family. https://faithvictori
 a.org.au/upcoming-events/event/1375-peace-and-love-concert-bendigo-interfa
 ith-council
DTSTART:20180621T173000Z
DTEND:20180621T203000Z
LOCATION:Uniting Church Forest Street\, 23 Forest Street\, Bendigo\, Victor
 ia 3550 (23 Forest St\, Bendigo VIC 3550\, Australia)
SUMMARY:Peace and Love Concert: Bendigo Interfaith Council
URL:https://faithvictoria.org.au/upcoming-events/event/1375-peace-and-love-
 concert-bendigo-interfaith-council
END:VEVENT
END:VCALENDAR
