BEGIN:VCALENDAR
VERSION:2.0
PRODID:-//https://faithvictoria.org.au///NONSGML kigkonsult.se iCalcreator 2.10.15//
METHOD:PUBLISH
BEGIN:VEVENT
UID:20260424T210755UTC-3686L5VE0v@https://faithvictoria.org.au/
DTSTAMP:20260424T210755Z
DESCRIPTION:The Interational Council of Christians and Jews invites you to:
 \nWhen All This Is Over\, How Do We Want The World To Be Different?\nDates
 : Sunday 20 June - Wednesday 20 June and Sunday Sunday 27 June 2021&nbsp\;
 &nbsp\;Location: Online\nA detailed program of all events\, information on
  how to register and further materials can be on on ICCJ's website.&nbsp\;
 \nConference includes webinars\, workshops\, live online performance and a
  virtual Open House. Program topics and times can be found here.&nbsp\; ht
 tps://faithvictoria.org.au/upcoming-events/event/1796-when-all-this-is-ove
 r-how-do-we-want-the-world-to-be-different-international-council-of-christ
 ians-and-jews
DTSTART;VALUE=DATE:20210620
LOCATION:Melbourne VIC 3000 (Melbourne VIC\, Australia)
SUMMARY:When All This Is Over\, How Do We Want The World To Be Different?: 
 International Council of Christians and Jews
URL:https://faithvictoria.org.au/upcoming-events/event/1796-when-all-this-i
 s-over-how-do-we-want-the-world-to-be-different-international-council-of-c
 hristians-and-jews
END:VEVENT
END:VCALENDAR
