BEGIN:VCALENDAR
VERSION:2.0
PRODID:-//https://faithvictoria.org.au///NONSGML kigkonsult.se iCalcreator 2.10.15//
METHOD:PUBLISH
BEGIN:VEVENT
UID:20260421T213555UTC-5765SW1rja@https://faithvictoria.org.au/
DTSTAMP:20260421T213555Z
DESCRIPTION:The Jewish Christian Muslim Association invites you to:\nA guid
 ed tour to Islamic Museum of AustraliaFeaturing the exhibitions &ldquo\;1.
 6 Billion Ways To Be Muslim&rdquo\; and &ldquo\;Our grandmothers&rdquo\;\n
 Date: Wednesday 20 June 2018&nbsp\; &nbsp\; &nbsp\; &nbsp\; Time: 12pm to 
 1pmLocation:&nbsp\;Islamic Museum of Australia\, 15A Anderson Rd\, Thornbu
 ry\, Melbourne\, VIC 3071\nAs part of our continuing efforts in harbouring
  understanding and appreciation to the Abrahamic faith traditions\, partic
 ipants will explore the exhibition '1.6 Billion Ways To Be Muslim'\, an ex
 hibition which started as a photographic narrative on social media and has
  since become a global initiative celebrating the diversity of modern day 
 Muslims.\nIn addition\, a second exhibition\, &ldquo\;Our grandmothers&rdq
 uo\;\, celebrates the love\, spirit\, strength and wisdom embodied by gran
 dmothers in Islam. This exhibition is part of the Multicultural Museums Vi
 ctoria inaugural joint project celebrating the central role of grandmother
 s in the Chinese\, Italian\, Greek\, Muslim and Jewish communities.\nAfter
  the tour you may choose to stay for lunch at the cafeteria and meet up wi
 th old friends or meet new ones. Ticket price includes the cost of the tou
 r only and lunch is extra. These encounters are interesting and rewarding 
 and an important part of transforming relations between people of differen
 t faiths. We look forward to seeing you there.\nCost: $15 adult\,&nbsp\; $
 10 concession\nTo register your interest and participate\, please click he
 re and purchase tickets early\, as they can be sold out. For more informat
 ion:&nbsp\;Ginette Everest (03) 9287 5590 |&nbsp\;womenconference@jcma.org
 .au\nNotes: This is an event for men and women. We suggest car pooling as 
 parking is very restricted in the vicinity of the Museum. https://faithvic
 toria.org.au/upcoming-events/event/1367-a-tour-to-the-islamic-museum-of-au
 stralia-jewish-christian-muslim-association
DTSTART:20180620T120000Z
DTEND:20180620T130000Z
LOCATION: Islamic Museum - 15a Anderson Rd\, Thornbury Victoria (off Norman
 by Rd) (15A Anderson Road\, Thornbury VIC 3071\, Australia)
SUMMARY:A Tour to the Islamic Museum of Australia: Jewish Christian Muslim 
 Association
URL:https://faithvictoria.org.au/upcoming-events/event/1367-a-tour-to-the-i
 slamic-museum-of-australia-jewish-christian-muslim-association
END:VEVENT
BEGIN:VEVENT
UID:20260421T213555UTC-5780k7VniP@https://faithvictoria.org.au/
DTSTAMP:20260421T213555Z
DESCRIPTION:The City of Melton\, supported by Melton Interfaith Network\, i
 nvites&nbsp\; you to:\nRefugee Week\nDate: Wednesday 20 June 2018&nbsp\; &
 nbsp\; &nbsp\; Time: 12:30pm to 2:30pmLocation: Melton Community Hall\, 23
 2 High Street\, Melton\nIn 2018\, Refugee Week will be held from 17 June t
 o 23 June. We encourage you to join us for the range of activities that wi
 ll take place during Refugee Week 2018.&nbsp\;Hear the inspiring stories o
 f refugees and&nbsp\;asylum seekers\, and enjoy cultural performances.\nRe
 fugee Week Celebration and the launch of the Melton City Council&rsquo\;s 
 membership to the Council of Europe&rsquo\;s Intercultural Cities programm
 e.&nbsp\;\nFree event - light refreshments provided.\nOther activities:\n
 \nIn Search for Safety |&nbsp\;Tuesday 19 June\, 6.00pm - 7.30pm |&nbsp\;C
 aroline Springs LibraryRSVP to alexandram@melton.vic.gov.au or phone 9747 
 7200Discover the reasons why people seek asylum\, understand the situation
 s they face and meet those who've experienced it for themselves in Red Cro
 ss' engaging community education program.\nHear Abdi&rsquo\;s Inspiring St
 ory |&nbsp\;Wednesday 20 June\, 10.00am |&nbsp\;Caroline Springs LibraryAb
 di Aden is a Somali refugee who as a teenager in the 1990s escaped the civ
 il war to live rough in Romania and eventually arrive in Australia speakin
 g no English. Aden is now a university-educated Australian citizen working
  with the refugee community in Melbourne.\nContemporary Weaving with Chaco
  Kato for Refugee Week | Saturday 23 June 2018 | 11am &ndash\; 1pm - Famil
 y workshop | 2pm - 4pm - Adults workshop | CS GalleryCelebrate refugee wee
 k by picking up some fabric and getting your hands involved in a contempor
 ary take on weaving\, a cultural practice that is handed down from generat
 ion to generation in different cultures around the world.\n\nFor more info
 rmation visit:&nbsp\;melton.vic.gov.au/refugeeweek&nbsp\;RSVP: Fran Grossi
  |&nbsp\;francescag@melton.vic.gov.au&nbsp\;| 03&nbsp\;9747 5752 https://f
 aithvictoria.org.au/upcoming-events/event/1370-refugee-week-city-of-melton
DTSTART:20180620T123000Z
DTEND:20180620T143000Z
LOCATION:Melton Community Hall - 232 High Street\, Melton (232 High St\, Me
 lton VIC 3337\, Australia)
SUMMARY:Refugee Week: City of Melton
URL:https://faithvictoria.org.au/upcoming-events/event/1370-refugee-week-ci
 ty-of-melton
END:VEVENT
END:VCALENDAR
