BEGIN:VCALENDAR
VERSION:2.0
PRODID:-//https://faithvictoria.org.au///NONSGML kigkonsult.se iCalcreator 2.10.15//
METHOD:PUBLISH
BEGIN:VEVENT
UID:20260421T201041UTC-6213oaF7xz@https://faithvictoria.org.au/
DTSTAMP:20260421T201041Z
DESCRIPTION:The Knox Interfaith Network invites you to:\nTour to Places of&
 nbsp\; Worship\nDate: Tuesday 19 June 2018&nbsp\; &nbsp\; &nbsp\;Time: 10a
 m to 3:15pm\nJoin us on a Knox Interfaith Tour. Explore places of worship 
 in your local community.&nbsp\;\nTour includes visit to:\n\nLeo Baeck Cent
 re for Progressive Judaism\nSeventh Day Adventist Church\n\nCost: $5 per p
 erson | Includes tour \, transportation\, lunch and morning/afternoon tea.
 \nBookings:&nbsp\;03 9557 6713 | E:&nbsp\;tsa@templesociety.org.auStrictly
  limited seats. https://faithvictoria.org.au/upcoming-events/event/1368-to
 ur-to-places-of-worship-knox-interfaith-network
DTSTART:20180619T100000Z
DTEND:20180619T151500Z
LOCATION:Leo Baeck Centre for Progressive Judaism\, 31--37 Harp Road East K
 ew 3102  (31/37 Harp Road\, Kew VIC 3101\, Australia)
SUMMARY:Tour to Places of Worship: Knox Interfaith Network
URL:https://faithvictoria.org.au/upcoming-events/event/1368-tour-to-places-
 of-worship-knox-interfaith-network
END:VEVENT
END:VCALENDAR
