BEGIN:VCALENDAR
VERSION:2.0
PRODID:-//https://faithvictoria.org.au///NONSGML kigkonsult.se iCalcreator 2.10.15//
METHOD:PUBLISH
BEGIN:VEVENT
UID:20260421T170842UTC-14551uzUEj@https://faithvictoria.org.au/
DTSTAMP:20260421T170842Z
DESCRIPTION:The Ballarat Interfaith Network\, co-hosted with Uniting Church
  Ballarat Central\, invites you to:\nSerenades | Movie Screening\nDate: Su
 nday 17 June 2018&nbsp\; &nbsp\; Time: 4:30pmLocation:&nbsp\;Uniting Churc
 h Ballarat Central\,&nbsp\;103 Lydiard St S\, Ballarat Central VIC 3350\nA
  love story with three spiritual perspectives - Aboriginal\, Christian and
  Muslim.&nbsp\;*Meet the director Mojgan Khadem*\nRefreshments and discuss
 ion with Mojgan\nCost: Free film screening |&nbsp\;(donations supporting B
 allarat refugees)Enquiries: Margaret 0400-650-234 or Maureen 0418-383-802 
 https://faithvictoria.org.au/upcoming-events/event/1371-movie-screening-ba
 llarat-interfaith-network
DTSTART:20180617T163000Z
DTEND:20180617T203000Z
LOCATION:Uniting Church\, 103 Lydiard St S\, Ballarat Central VIC 3350 (103
  Lydiard St S\, Ballarat Central VIC 3350\, Australia)
SUMMARY:Movie Screening: Ballarat Interfaith Network
URL:https://faithvictoria.org.au/upcoming-events/event/1371-movie-screening
 -ballarat-interfaith-network
END:VEVENT
END:VCALENDAR
