BEGIN:VCALENDAR
VERSION:2.0
PRODID:-//https://faithvictoria.org.au///NONSGML kigkonsult.se iCalcreator 2.10.15//
METHOD:PUBLISH
BEGIN:VEVENT
UID:20260424T110431UTC-02870wGDPM@https://faithvictoria.org.au/
DTSTAMP:20260424T110431Z
DESCRIPTION:Hobsons Bay Interfaith Network invites you to:\nInterfaith Conv
 ersations | Exploring the connection between sacrifice and celebration in 
 different faiths\nDate: Tuesday 16 June 2020&nbsp\; &nbsp\; &nbsp\; &nbsp\
 ;Time: 7:30pm to 9:30pmLocation: Virtual meeting&nbsp\;via zoom (link prov
 ided after you RSVP)\nFeaturing three local guest speakers across three di
 fferent faiths. This is a great opportunity to learn a bit more about diff
 erent faiths in Australia - their commonalities and differences. It is als
 o a chance to build connections and friendships across the Hobsons Bay com
 munity.\nInvite your friends and faith communities to join in too.\nRSVP: 
 office@htw.org.au&nbsp\; https://faithvictoria.org.au/upcoming-events/even
 t/1694-exploring-the-connection-between-sacrifice-and-celebration-hobsons-
 bay-interfaith-network
DTSTART:20200616T193000Z
DTEND:20200616T213000Z
LOCATION:Melbourne VIC 3000 (Melbourne VIC\, Australia)
SUMMARY:Exploring the connection between sacrifice and celebration: Hobsons
  Bay Interfaith Network
URL:https://faithvictoria.org.au/upcoming-events/event/1694-exploring-the-c
 onnection-between-sacrifice-and-celebration-hobsons-bay-interfaith-network
END:VEVENT
END:VCALENDAR
