BEGIN:VCALENDAR
VERSION:2.0
PRODID:-//https://faithvictoria.org.au///NONSGML kigkonsult.se iCalcreator 2.10.15//
METHOD:PUBLISH
BEGIN:VEVENT
UID:20260424T125353UTC-8906vZvbEu@https://faithvictoria.org.au/
DTSTAMP:20260424T125353Z
DESCRIPTION:Religions for Peace Australia invites you to:\nAnnual General M
 eeting 2019-2020\nDate: Monday 15 June 2020&nbsp\; &nbsp\; &nbsp\; Time: 1
 0am to 2pmLocation: Online (click here to&nbsp\;attend online meeting)\nRe
 ligions for Peace Australia will conduct the Annual General Meeting for ye
 ar 2019-2020 online using Zoom on Monday 15 June 2020. Interested members 
 of the public are invited to attend and listen to the presentations on Sna
 p back/forward- recovery and resilience during Covid 19 time . These prese
 ntations will take place from 11:00am until 12:30pm\nClick here for detail
 ed program and topics for the annual discussions.&nbsp\; https://faithvict
 oria.org.au/upcoming-events/event/1696-annual-general-meeting-religions-fo
 r-peace-australia
DTSTART:20200615T100000Z
DTEND:20200615T140000Z
LOCATION:Melbourne VIC 3000 (Melbourne VIC\, Australia)
SUMMARY:Annual General Meeting: Religions for Peace Australia
URL:https://faithvictoria.org.au/upcoming-events/event/1696-annual-general-
 meeting-religions-for-peace-australia
END:VEVENT
END:VCALENDAR
