BEGIN:VCALENDAR
VERSION:2.0
PRODID:-//https://faithvictoria.org.au///NONSGML kigkonsult.se iCalcreator 2.10.15//
METHOD:PUBLISH
BEGIN:VEVENT
UID:20260424T112740UTC-66189rpNXK@https://faithvictoria.org.au/
DTSTAMP:20260424T112740Z
DESCRIPTION:Queen's Birthday - Monday&nbsp\;14 June 2021 https://faithvicto
 ria.org.au/upcoming-events/event/1104-queens-birthday-public-holiday-victo
 ria
DTSTART;VALUE=DATE:20210614
LOCATION:RSEvents!Pro Location (Colorado\, USA)
SUMMARY:Queen's Birthday (Public Holiday Victoria)
URL:https://faithvictoria.org.au/upcoming-events/event/1104-queens-birthday
 -public-holiday-victoria
END:VEVENT
END:VCALENDAR
