BEGIN:VCALENDAR
VERSION:2.0
PRODID:-//https://faithvictoria.org.au///NONSGML kigkonsult.se iCalcreator 2.10.15//
METHOD:PUBLISH
BEGIN:VEVENT
UID:20260421T153521UTC-2851mUEPsg@https://faithvictoria.org.au/
DTSTAMP:20260421T153521Z
DESCRIPTION:Shavuot Begins on&nbsp\;Wednesday 12 June 2024Ends on Thursday 
 13 June 2024Faith: Judaism\nShavuot\, also known as Feast of Weeks\, comme
 morates the anniversary of the day God gave the Torah and Commandments to 
 the entire nation of Israel assembled at Mount Sinai. Marks the conclusion
  of the seven weeks following Pesach. Originally a harvest festival. https
 ://faithvictoria.org.au/upcoming-events/event/2097-shavuot-judaism
DTSTART:20240612T000000Z
DTEND:20240613T220009Z
LOCATION:RSEvents!Pro Location (Colorado\, USA)
SUMMARY:Shavuot | Judaism 	
URL:https://faithvictoria.org.au/upcoming-events/event/2097-shavuot-judaism
END:VEVENT
END:VCALENDAR
