BEGIN:VCALENDAR
VERSION:2.0
PRODID:-//https://faithvictoria.org.au///NONSGML kigkonsult.se iCalcreator 2.10.15//
METHOD:PUBLISH
BEGIN:VEVENT
UID:20260424T172142UTC-0878LLUZav@https://faithvictoria.org.au/
DTSTAMP:20260424T172142Z
DESCRIPTION:Maroondah Interfaith Network invites you to:\nPursuit of Happin
 ess: Reaching Beyond Ourselves\nDate: Satuday 13 June 2020&nbsp\; &nbsp\; 
 &nbsp\;Time: 3pm to 5pmLocation: online webinar\nBuilding on from our prev
 ious seminars prior to the Covid-19 pandemic\, the Maroondah Interfaith Ne
 twork are hosting our final seminar online to conclude our seminar series.
 \nReligious faith has been a major means of humans reaching beyond themsel
 ves throughout&nbsp\;history. Today\, many people reach beyond themselves 
 through art\, music and being in&nbsp\;nature. What truly helps us to reac
 h beyond the mundane nature of life and find that inner&nbsp\;fulfilment t
 hat gives us much more than superficial happiness?\nA variety of people fr
 om different backgrounds will briefly address this topic:\n\nMary Dewberry
  (Psychologist)\nDamian Gauci (Buddhist)\nSwami Sunishthananda (Vedanta Hi
 ndu Centre)\nLucas Taylor (Minister\, Ringwood Uniting Church)\nDr Thien N
 guyen (Director\, Janssen Spirituality Centre)\n\nFollowing the presentati
 ons\, participants will be invited into several ‘rooms’ for discussion.The
 re is no need to register. Click on the following link to join the meeting
  from your&nbsp\;computer\, tablet or phone.https://alphacrucis.zoom.us/j/
 94947140918?&nbsp\;Or open Zoom and put in the following codes:Meeting ID:
  949 4714 0918Password: MINhappy4\nFeel free to share this invitation with
  friends you think would be interested in the event.&nbsp\;This event was 
 originally planned as a Harmony Day Dinner. Due to COVID-19\, we have&nbsp
 \;not been able to hold the dinner. The steering committee decided that an
  ‘electronic event’ would be the best way to conclude this series of semin
 ars. Previous seminars in this series&nbsp\;are available to be viewed on 
 Youtube:Seminar 1. What Makes Life Happy. https://youtu.be/EI-_KPxxOXoSemi
 nar 2. What Makes Society Happy. https://youtu.be/3Mpg8e_C-VYSeminar 3. De
 aling with the Challenges of Life. https://youtu.be/hibFI4aFlMk\nFor furth
 er information\, email Prof Philip Hughes: maroondahinterfaith@gmail.com h
 ttps://faithvictoria.org.au/upcoming-events/event/1692-the-pursuit-of-happ
 iness-maroondah-interfaith-network
DTSTART:20200613T150000Z
DTEND:20200613T170000Z
LOCATION:Melbourne VIC 3000 (Melbourne VIC\, Australia)
SUMMARY:The Pursuit of Happiness: Maroondah Interfaith Network
URL:https://faithvictoria.org.au/upcoming-events/event/1692-the-pursuit-of-
 happiness-maroondah-interfaith-network
END:VEVENT
END:VCALENDAR
