BEGIN:VCALENDAR
VERSION:2.0
PRODID:-//https://faithvictoria.org.au///NONSGML kigkonsult.se iCalcreator 2.10.15//
METHOD:PUBLISH
BEGIN:VEVENT
UID:20260421T111712UTC-8241Zkv10m@https://faithvictoria.org.au/
DTSTAMP:20260421T111712Z
DESCRIPTION:The City of Greater Dandenong Interfaith Network invites you to
 :\nA Tour to Places of Worship 2018\nDate:&nbsp\;Wednesday&nbsp\;13 June 2
 018&nbsp\; &nbsp\; &nbsp\; &nbsp\;Time:&nbsp\;8:30am to 3:15pm&nbsp\;Tour 
 departs from:&nbsp\;Interfaith Network Office\, 39 Clow Street\, Dandenong
  (Free parking available off Stuart Street\, behind IFN Office)\nTour Guid
 e:&nbsp\;Mrs Agnes Kean\nTour includes:\n\n\nDhamma Sarana Buddhist Temple
 &nbsp\;(Sri Lankan) |&nbsp\;335 Greens Road\, Keysborough 3173 |&nbsp\;Hos
 t: Venerable Muruthamura Pannaloka Thero\n\n\nShiva Vishnu Temple (Hindu) 
 |&nbsp\;52 Boundary Road\, Carrum Downs 3201 |&nbsp\;Host: Mr Arunachalam 
 Mahendran [Mahen]\n\n\nLunch&nbsp\;\n\n\nBrahma Kumaris Retreat Centre&nbs
 p\;| 83-99 Stotts Lane\, Baxter 3911 |&nbsp\;Hosts: Sr Jacqueline Russell
 \n\n\nChurch of Jesus Christ of Latter-day Saints Chapel |&nbsp\;894 Sprin
 gvale Road\, Braeside 3195 |&nbsp\;Host: Mr John &amp\; Mrs Nicole Stinchc
 ombe\n\nReturn to Interfaith Network Office\, Dandenong\nDebriefing and Re
 freshments\n\nCost:&nbsp\;$25 - covers transport and 'Many Faiths\, One Pe
 ople' book\nRespectful Practices:\n\nModest clothing worn in all Places of
  Worship would be appreciated.\nAll are requested to remove their shoes be
 fore entering the Sikh Gurdwara\, Hindu and Buddhist Temples and Mosque.\n
 In the Hindu Temple\, all head coverings should be removed except those wo
 rn as religious practice.\nWomen entering the Mosque are asked to cover th
 eir heads and wear clothing which covers arms to wrists and legs to ankles
 \, men are asked to cover their heads in the Jewish Synagogue and all are 
 asked to cover their heads in Gurdwara. [Head covering provided in the Syn
 agogue &amp\; Gurdwara]\nVisitors should have no tobacco on their person w
 hen entering the Gurdwara\n\nFurther Information:&nbsp\;Helen Heath: 03 87
 74 7662 | 0421 829 563 |&nbsp\;interfaithofficer@interfaithnetwork.org.au 
 https://faithvictoria.org.au/upcoming-events/event/1348-tour-to-places-of-
 worship-2018-greater-dandenong-interfaith-network
DTSTART:20180613T083000Z
DTEND:20180613T151500Z
LOCATION:Interfaith Network Office\, 39 Clow Street\, Dandenong (39 Clow St
 \, Dandenong VIC 3175\, Australia)
SUMMARY:Tour to Places of Worship 2018: Greater Dandenong Interfaith Networ
 k
URL:https://faithvictoria.org.au/upcoming-events/event/1348-tour-to-places-
 of-worship-2018-greater-dandenong-interfaith-network
END:VEVENT
END:VCALENDAR
