BEGIN:VCALENDAR
VERSION:2.0
PRODID:-//https://faithvictoria.org.au///NONSGML kigkonsult.se iCalcreator 2.10.15//
METHOD:PUBLISH
BEGIN:VEVENT
UID:20260421T094956UTC-5306U1PRmL@https://faithvictoria.org.au/
DTSTAMP:20260421T094956Z
DESCRIPTION:The Council of Christians and Jews invites you to:\n'Something 
 Dreadful': Wrestling with the Bible's most troubling texts | The Luncheon 
 Club\nDate: Tuesday 12 June 2018&nbsp\; &nbsp\; &nbsp\; &nbsp\; &nbsp\;Tim
 e: 12:15pm to 1:30pmLocation: East Melbourne Synagogue\, 488 Albert Street
 \, East Melbourne\nSpeaker: Dr Emily Filler\nMore about the Speaker:&nbsp\
 ;Emily is Chair and Assistant Professor of Jewish Studies at Earlham Colle
 ge in Indiana\, where she teaches modern philosophy and ethics alongside t
 he Jewish textual tradition. A PhD from the University of Virginia\, she i
 s particularly interested in the possibility that &ldquo\;troubling texts&
 rdquo\; &ndash\; violent or otherwise ethically challenging biblical and r
 abbinic passages &ndash\; can be good philosophical\, ethical\, and politi
 cal tools. She is co-editor of the Journal of Jewish Ethics and directs th
 e Sacred Texts and Ethics Group at the American Academy of Religion. She i
 s visiting Australia as a guest of Limmud Oz.\n&ldquo\;Something dreadful&
 rdquo\; is a quote from Martin Buber\, and this talk will take a detailed 
 look at the passage it is quoted from\, and will explore some of the&nbsp\
 ;texts that Buber and others consider to be the most terrible and troublin
 g.\nCost: $15 entry\, includes Kosher light lunch\nRSVP: Please advise CCJ
  Vic Office if you are attending | 03 9429 5212 | ccjvic@bigpond.net.au ht
 tps://faithvictoria.org.au/upcoming-events/event/1372-the-luncheon-club-co
 uncil-of-christians-and-jews-vic
DTSTART:20180612T121535Z
DTEND:20180612T133000Z
LOCATION:East Melbourne Synagogue\, 488 Albert Street\, East Melbourne (488
  Albert St\, East Melbourne VIC 3002\, Australia)
SUMMARY:The Luncheon Club: Council of Christians and Jews Vic
URL:https://faithvictoria.org.au/upcoming-events/event/1372-the-luncheon-cl
 ub-council-of-christians-and-jews-vic
END:VEVENT
END:VCALENDAR
