BEGIN:VCALENDAR
VERSION:2.0
PRODID:-//https://faithvictoria.org.au///NONSGML kigkonsult.se iCalcreator 2.10.15//
METHOD:PUBLISH
BEGIN:VEVENT
UID:20260424T204036UTC-2905EGv98m@https://faithvictoria.org.au/
DTSTAMP:20260424T204036Z
DESCRIPTION:Sir Zelman Cowen Centre invites you to:\nMultifaith responses t
 o COVDI-19: Governing in a crisis\nDate: Thursday 11 June 2020&nbsp\; &nbs
 p\; &nbsp\; Time: 4pm to 5:15pmLocation: Online webinar (Click here to reg
 ister)\nJoin us for an expert interfaith discussion on how faith-based com
 munities are responding to the challenges and opportunities of the pandemi
 c now and into the future.\nPanellists:\n\nRev Ian Smith\, Executive Offic
 er\, Victorian Council of Churches\nRabbi Ronnie Figdor OAM\, Chief Execut
 ive Officer\, St Kilda Hebrew Congregation\nManal Shehab\, CALD Family Vio
 lence Specialist &amp\; AOD Psychoeducational Peer-Support facilitator\n\n
 With expert commentary from:\n\nDr Nadav Prawer\, Partner\, Mann Lawyers (
 expert in governance of faith-based organisations and charities)\nAdam Lan
 caster\, Director\, Ready1 Group (a senior accountant with hands-on experi
 ence with JobKeeper and COVID19 related financial support)\n\nRegister by 
 8 June |&nbsp\;A link to join the webinar will be provided to registered p
 articipants via email.Please feel free to promote this event within your n
 etworks\nFor more information\, contact cowen.centre@vu.edu.au&nbsp\;or fi
 nd out more about us www.vu.edu.au/szcc&nbsp\;\n&nbsp\; https://faithvicto
 ria.org.au/upcoming-events/event/1691-multifaith-responses-to-covid-19-sir
 -zelman-cowen-centre
DTSTART;VALUE=DATE:20200611
LOCATION:Melbourne VIC 3000 (Melbourne VIC\, Australia)
SUMMARY:Multifaith responses to COVID-19: Sir Zelman Cowen Centre
URL:https://faithvictoria.org.au/upcoming-events/event/1691-multifaith-resp
 onses-to-covid-19-sir-zelman-cowen-centre
END:VEVENT
END:VCALENDAR
