BEGIN:VCALENDAR
VERSION:2.0
PRODID:-//https://faithvictoria.org.au///NONSGML kigkonsult.se iCalcreator 2.10.15//
METHOD:PUBLISH
BEGIN:VEVENT
UID:20260425T032633UTC-6331wbsV3l@https://faithvictoria.org.au/
DTSTAMP:20260425T032633Z
DESCRIPTION:The Multifaith Singing Group invites you to:\nSing for Peace\nD
 ate: Saturday 6 June 2020&nbsp\; &nbsp\; &nbsp\; Time: 11am and 3pmLocatio
 n:&nbsp\;your home\nLearn and share a song from one's faith tradition in t
 he comfort of your own home.\nText 0409797612 to&nbsp\;RSVP\nNadia Asikin\
 , from the Monash Interfaith Gathering is the lead organiser and singer. h
 ttps://faithvictoria.org.au/upcoming-events/event/1693-sing-for-peace-the-
 multifaith-singing-group
DTSTART:20200606T110000Z
DTEND:20200606T120000Z
LOCATION:Melbourne VIC 3000 (Melbourne VIC\, Australia)
SUMMARY:Sing for Peace: The Multifaith Singing Group
URL:https://faithvictoria.org.au/upcoming-events/event/1693-sing-for-peace-
 the-multifaith-singing-group
END:VEVENT
END:VCALENDAR
