BEGIN:VCALENDAR
VERSION:2.0
PRODID:-//https://faithvictoria.org.au///NONSGML kigkonsult.se iCalcreator 2.10.15//
METHOD:PUBLISH
BEGIN:VEVENT
UID:20260422T122929UTC-5861gbboCO@https://faithvictoria.org.au/
DTSTAMP:20260422T122929Z
DESCRIPTION:Melton Interfaith Network invites you to:\nMulti-Faith Fair\nDa
 te: Saturday 1 June 2024&nbsp\; &nbsp\; &nbsp\; Time: 3pm to 7pmLocation:&
 nbsp\;Fraser Rise Community Centre\, 46 City Vista Court\, Fraser Rise VIC
  3336\n\nGuest speakers\nYouth speakers and panel featuring many faiths\nB
 ooths from various faiths\nYouth cultural performances throughout the even
 t\nDinner at 5pm&nbsp\;\n\nThis is a free event. All are welcome.&nbsp\;RS
 VP: 25 May 2024 | meltoninterfaith@gmail.com&nbsp\;\nClick here for more i
 nformation.&nbsp\; https://faithvictoria.org.au/upcoming-events/event/2258
 -multi-faith-fair-melton-interfaith-network
DTSTART:20240601T150000Z
DTEND:20240601T190000Z
LOCATION:Fraser Rise Community Centre\, 46 City Vista Court\, Fraser Rise V
 IC 3336 (46 City Vista Ct\, Fraser Rise VIC 3336\, Australia)
SUMMARY:Multi-Faith Fair: Melton Interfaith Network
URL:https://faithvictoria.org.au/upcoming-events/event/2258-multi-faith-fai
 r-melton-interfaith-network
END:VEVENT
END:VCALENDAR
