BEGIN:VCALENDAR
VERSION:2.0
PRODID:-//https://faithvictoria.org.au///NONSGML kigkonsult.se iCalcreator 2.10.15//
METHOD:PUBLISH
BEGIN:VEVENT
UID:20260421T082808UTC-1913LCh0FJ@https://faithvictoria.org.au/
DTSTAMP:20260421T082808Z
DESCRIPTION:The Kingston Interfaith Network invites you to:\nTour to Places
  of Worship Bus Tour\nDate: Wednesday 30 May 2018&nbsp\; &nbsp\; &nbsp\;Ti
 me: 9am to 4pmBus Pick-up Point at 8:45am: Council Building\, 34 Brindisi 
 Street\, Mentone&nbsp\;\nThe Kingstong Interfaith&nbsp\;Advisory Committee
  will run a bus tour to places of worship to provide an opportunity for th
 e public to learn about different faiths. Tour participants will be able t
 o see different places of worship and ask questions in a respectful and su
 pportive small group environment. This will be a great opportunity to have
  a small guided tour\, ask questions\, and experience different faiths in 
 a welcoming environment.Modest clothing worn in all Places of Worship woul
 d be appreciated.\nThis year two Community buses will be available (a 21 s
 eats and an 11 seats buses) to accommodate more community members.\nThe To
 ur will collect the participants at Mentone Council building at 8:45am and
  will include the following places of worship:\n\nECKANKAR Community Centr
 e (Moorabbin)\nChurch of Jesus Christ of Latter-day Saints (Moorabbin)\nYu
 n Yang Temple &ndash\; Include: visit of the temple and optional park walk
  and meditation session. (Narre Warren)\n\nCost: Free |&nbsp\;Please BYO l
 unch - dessert and drinks provided by Kingston Council\nBookings essential
 :&nbsp\;Please RSVP as soon as possible as places on the buses are limited
 .RSVP:&nbsp\;7 May 2018 |&nbsp\;Elisabetta Robecchi&nbsp\;elisabetta.robec
 chi@kingston.vic.gov.au&nbsp\;| 03 9581 4783\n&nbsp\; https://faithvictori
 a.org.au/upcoming-events/event/1354-tour-to-places-of-worship-kingston-int
 erfaith-network
DTSTART:20180530T090000Z
DTEND:20180530T160000Z
LOCATION:Council Building\, 34 Brindisi Street\, Mentone (34 Brindisi St\, 
 Mentone VIC 3194\, Australia)
SUMMARY:Tour to Places of Worship: Kingston Interfaith Network
URL:https://faithvictoria.org.au/upcoming-events/event/1354-tour-to-places-
 of-worship-kingston-interfaith-network
END:VEVENT
END:VCALENDAR
