BEGIN:VCALENDAR
VERSION:2.0
PRODID:-//https://faithvictoria.org.au///NONSGML kigkonsult.se iCalcreator 2.10.15//
METHOD:PUBLISH
BEGIN:VEVENT
UID:20260422T191038UTC-81770c1jo0@https://faithvictoria.org.au/
DTSTAMP:20260422T191038Z
DESCRIPTION:Ascension of Baha'ullahTuesday 28 May 2024Faith: Baha'i\nBaha’i
 s observe the anniversary of the death in exile of Baha’u’llah\, the found
 er of the Baha’i faith\, on May 29\, 1892\, outside Akko (now northern Isr
 ael). https://faithvictoria.org.au/upcoming-events/event/2032-ascension-of
 -bahaullah-bahai
DTSTART;VALUE=DATE:20240528
LOCATION:RSEvents!Pro Location (Colorado\, USA)
SUMMARY:Ascension of Baha'ullah | Baha'i
URL:https://faithvictoria.org.au/upcoming-events/event/2032-ascension-of-ba
 haullah-bahai
END:VEVENT
END:VCALENDAR
