BEGIN:VCALENDAR
VERSION:2.0
PRODID:-//https://faithvictoria.org.au///NONSGML kigkonsult.se iCalcreator 2.10.15//
METHOD:PUBLISH
BEGIN:VEVENT
UID:20260421T124346UTC-9113NndMHu@https://faithvictoria.org.au/
DTSTAMP:20260421T124346Z
DESCRIPTION:The Council of Christians and Jews invites you to:\nAppreciatin
 g the Relationship between Islam and Judeo-Christianity\nDate: Sunday 27 M
 ay 2018&nbsp\; &nbsp\; &nbsp\;Time: 3pm to 5pmLocation:&nbsp\;Etz Chayim P
 rogressive Synagogue\,&nbsp\; 549 Centre Road\, Bentleigh 3204 [Melways re
 ference 77 G1]\nSpeaker: Reem Sweid\nMore about the Speaker:&nbsp\;Reem is
  the founder and president of Muslim Collective\, formerly known as Muslim
 s for Progressive Values\, a national grassroots progressive Muslim organi
 zation. She is a PhD student and Research Assistant for the UNESCO Chair\,
  Cultural Diversity and Social Justice\, at the Alfred Deakin Institute fo
 r Citizenship and Globalisation. Reem has a Bachelor&rsquo\;s degree in In
 ternational Relations and Economics (Brown University\, USA) and a Master&
 rsquo\;s degree in Development Management (London School of Economics\, UK
 ). Her PhD research encompasses a comparative analysis of countering viole
 nt extremism policy and the role of intercultural dialogue. Reem&rsquo\;s 
 research interests include progressive Islamic thought on social justice a
 nd human rights. Reem is also a Fellow of the progressive Islamic think ta
 nk\, the Critical Muslim Institute\, based in the United Kingdom.\nReem&rs
 quo\;s address will include references to the diversity within Islam and t
 he nature of progressive Islamic thought and practice.\nCost: $10 entry\, 
 includes Kosher afternoon tea\nRSVP: Please advise CCJ Vic Office if you a
 re attending | 03 9429 5212 | ccjvic@bigpond.net.au https://faithvictoria.
 org.au/upcoming-events/event/1362-appreciating-the-relationship-between-is
 lam-and-judeo-christianity-council-of-christians-and-jews-victoria
DTSTART:20180527T150000Z
DTEND:20180527T170000Z
LOCATION:Etz Chayim Progressive Synagogue\,  549 Centre Road Bentleigh (Etz
  Chayim Progressive Synagogue\, 549 Centre Road\, Bentleigh VIC 3204\, Aus
 tralia)
SUMMARY:Appreciating the Relationship between Islam and Judeo-Christianity:
  Council of Christians and Jews Victoria
URL:https://faithvictoria.org.au/upcoming-events/event/1362-appreciating-th
 e-relationship-between-islam-and-judeo-christianity-council-of-christians-
 and-jews-victoria
END:VEVENT
END:VCALENDAR
