BEGIN:VCALENDAR
VERSION:2.0
PRODID:-//https://faithvictoria.org.au///NONSGML kigkonsult.se iCalcreator 2.10.15//
METHOD:PUBLISH
BEGIN:VEVENT
UID:20260423T020143UTC-9144pxeKFG@https://faithvictoria.org.au/
DTSTAMP:20260423T020143Z
DESCRIPTION:Declaration of the BabFriday&nbsp\;24&nbsp\;May 2024Faith: Baha
 'i\nThe Baha'i commemorate when the Bab\, the herald of the Baha'i Faith\,
  announced in Shiraz\, Persia (now Iran)\, that he was the herald of a new
  messenger of God. https://faithvictoria.org.au/upcoming-events/event/2033
 -declaration-of-the-bab-bahai
DTSTART;VALUE=DATE:20240524
LOCATION:RSEvents!Pro Location (Colorado\, USA)
SUMMARY:Declaration of the Bab | Baha'i 	
URL:https://faithvictoria.org.au/upcoming-events/event/2033-declaration-of-
 the-bab-bahai
END:VEVENT
END:VCALENDAR
