BEGIN:VCALENDAR
VERSION:2.0
PRODID:-//https://faithvictoria.org.au///NONSGML kigkonsult.se iCalcreator 2.10.15//
METHOD:PUBLISH
BEGIN:VEVENT
UID:20260423T034257UTC-627030OS9Z@https://faithvictoria.org.au/
DTSTAMP:20260423T034257Z
DESCRIPTION:Vesak / Buddha Day Thursday 23 May 2024Faith:&nbsp\;Buddhism\nV
 esak (Wesak) is the major Buddhist festival. It celebrates the birth\, enl
 ightenment and death of the Buddha on the one day. Also known as ‘Vishakha
  Puja’ or ‘Buddha’s Day’. The dates of this celebration vary significantly
  among Buddhist cultures and communities. https://faithvictoria.org.au/upc
 oming-events/event/2040-vesak-buddha-day-buddhism
DTSTART;VALUE=DATE:20240523
LOCATION:RSEvents!Pro Location (Colorado\, USA)
SUMMARY:Vesak / Buddha Day | Buddhism 	
URL:https://faithvictoria.org.au/upcoming-events/event/2040-vesak-buddha-da
 y-buddhism
END:VEVENT
BEGIN:VEVENT
UID:20260423T034257UTC-62795VmrGV@https://faithvictoria.org.au/
DTSTAMP:20260423T034257Z
DESCRIPTION:Saga Dawa Duchen (Tibetan)Thursday 23 May 2024Faith: Buddhism\n
 In Tibetan\, Düchen translates into 'great occasion' and commemorates the 
 birth\, enlightenment\, and parinirvana of Buddha Shakyamuni. This day is 
 the single most important holy day of the year for Tibetan Buddhists. http
 s://faithvictoria.org.au/upcoming-events/event/2046-saga-dawa-duchen-buddh
 ism
DTSTART;VALUE=DATE:20240523
LOCATION:RSEvents!Pro Location (Colorado\, USA)
SUMMARY:Saga Dawa Duchen | Buddhism 
URL:https://faithvictoria.org.au/upcoming-events/event/2046-saga-dawa-duche
 n-buddhism
END:VEVENT
END:VCALENDAR
