BEGIN:VCALENDAR
VERSION:2.0
PRODID:-//https://faithvictoria.org.au///NONSGML kigkonsult.se iCalcreator 2.10.15//
METHOD:PUBLISH
BEGIN:VEVENT
UID:20260421T212855UTC-5860PFlmnM@https://faithvictoria.org.au/
DTSTAMP:20260421T212855Z
DESCRIPTION:The Melton Interfaith Network invites you to:\nMelton Iftar Din
 ner\nDate: Monday 21 May 2018&nbsp\; &nbsp\; &nbsp\;Time: 5pm to 7pmLocati
 on:&nbsp\;Melton Community Hall\, 232 High St\, Melton\, Vic 3337\nCome an
 d celebrate Ramadan atour Iftar dinner!\nThis is a free event for families
  to join with the rest of the Muslim community.&nbsp\;\nTo register\, plea
 se click here.&nbsp\; https://faithvictoria.org.au/upcoming-events/event/1
 359-melton-iftar-dinner-melton-interfaith-network
DTSTART:20180521T170000Z
DTEND:20180521T190000Z
LOCATION:Melton Community Hall\, 232 High St\, Melton\, Vic 3337 (232 High 
 St\, Melton\, Vic 3337)
SUMMARY:Melton Iftar Dinner: Melton Interfaith Network
URL:https://faithvictoria.org.au/upcoming-events/event/1359-melton-iftar-di
 nner-melton-interfaith-network
END:VEVENT
END:VCALENDAR
