BEGIN:VCALENDAR
VERSION:2.0
PRODID:-//https://faithvictoria.org.au///NONSGML kigkonsult.se iCalcreator 2.10.15//
METHOD:PUBLISH
BEGIN:VEVENT
UID:20260423T104324UTC-71165SXcrc@https://faithvictoria.org.au/
DTSTAMP:20260423T104324Z
DESCRIPTION:PentecostSunday 19 May 2024Faith: Christianity\nPentecost comme
 morates the descent of the Holy Spirit upon the disciples of Jesus seven w
 eeks (50 days) after the Resurrection (Easter). It also commemorates the f
 ounding of the Christian Church\, which begins on this day. [Celebrated on
  12th of June by Orthodox Christians]. https://faithvictoria.org.au/upcomi
 ng-events/event/2056-pentecost-christianity
DTSTART;VALUE=DATE:20240519
LOCATION:RSEvents!Pro Location (Colorado\, USA)
SUMMARY:Pentecost | Christianity 	
URL:https://faithvictoria.org.au/upcoming-events/event/2056-pentecost-chris
 tianity
END:VEVENT
END:VCALENDAR
