BEGIN:VCALENDAR
VERSION:2.0
PRODID:-//https://faithvictoria.org.au///NONSGML kigkonsult.se iCalcreator 2.10.15//
METHOD:PUBLISH
BEGIN:VEVENT
UID:20260422T155643UTC-83691nblV4@https://faithvictoria.org.au/
DTSTAMP:20260422T155643Z
DESCRIPTION:Relationships Australia Victoria invites you to:\nFacing Family
  Violence in Faith Communities For Faith Leaders (Workshop 1)\nDate: Wedne
 sday 19 May 2021&nbsp\; &nbsp\; &nbsp\; &nbsp\;Time: 9:30am to 3:30pmLocat
 ion:&nbsp\;Relationships Australia Victoria\, 81-91 High Street\, Preston 
 VIC 3072\nEveryone has the right to feel safe and free from violence in th
 eir relationships.\nWorkshops for Faith LeadersIn the first of two worksho
 ps\, you’ll learn about the different types of family violence\, the preva
 lence of family violence in Australia and how you\, as a faith leader\, ca
 n raise awareness of\, respond to and work towards preventing family viole
 nce in your community. You’ll also be provided with information about how 
 to respond when a person discloses to you that they’re experiencing family
  violence.\nWorkshop 1Understanding family violence\n\nDefinition\, types\
 , and experiences of family violence\nImpacts of family violence – statist
 ics\, individual impacts and organisational impacts\nMyths and attitudes a
 bout family violence\nDrivers of family violence – including gender inequa
 lity\nHow systems and cultures contribute to family violence\n\nResponding
  to people experiencing family violence\n\nBarriers to disclosing family v
 iolence\nIndicators of family violence\nResponding appropriately to disclo
 sure\nAsking appropriate questions where family violence is suspected\nRef
 erring to specialist agencies\nOngoing support for people experiencing fam
 ily violence\n\nWorkshop 2 will be held on Thursday 4 March 2021 and Thurs
 day 3 June 2021\nFor Facebook link\, click here.&nbsp\; https://faithvicto
 ria.org.au/upcoming-events/event/1786-facing-family-violence-in-faith-comm
 unities-for-faith-leaders-workshop-1-relationships-australia-victoria
DTSTART:20210519T093000Z
DTEND:20210519T153000Z
LOCATION:Relationships Australia Victoria\, 81-91 High Street\, Preston VIC
  3072 (81-91 High St\, Preston VIC 3072\, Australia)
SUMMARY:Facing Family Violence in Faith Communities For Faith Leaders (Work
 shop 1): Relationships Australia Victoria
URL:https://faithvictoria.org.au/upcoming-events/event/1786-facing-family-v
 iolence-in-faith-communities-for-faith-leaders-workshop-1-relationships-au
 stralia-victoria
END:VEVENT
END:VCALENDAR
