BEGIN:VCALENDAR
VERSION:2.0
PRODID:-//https://faithvictoria.org.au///NONSGML kigkonsult.se iCalcreator 2.10.15//
METHOD:PUBLISH
BEGIN:VEVENT
UID:20260422T004842UTC-13042Nfj57@https://faithvictoria.org.au/
DTSTAMP:20260422T004842Z
DESCRIPTION:Fo Guang Shan Melbourne and Buddha&rsquo\;s Light International
  Association of Victoria invite you to:\nBuddha's Day &amp\; Multicultural
  Festival 2018\nDate: Saturday 19 May 2018&nbsp\; &nbsp\; Time: 10am to 7p
 mDate: Sunday 20 May 2018&nbsp\; &nbsp\; &nbsp\; &nbsp\;Time: 10am to 5pmL
 ocation: Federation Square\, Melbourne\, Victoria\nThe free annual Buddha&
 rsquo\;s Day and Multicultural Festival is a not-for-profit festival\, whi
 ch promotes inclusiveness\, cultural awareness\, cultural understanding\; 
 and enhances community spirit and social harmony.\nFor a detailed program\
 , click here or visit the Facebook page.&nbsp\; https://faithvictoria.org.
 au/upcoming-events/event/1358-buddhas-day-multicultural-festival-2018
DTSTART:20180519T100000Z
DTEND:20180519T190000Z
LOCATION:Federation Square\, Melbourne (Federation Square\, Melbourne VIC 3
 000\, Australia)
SUMMARY:Buddha's Day & Multicultural Festival 2018
URL:https://faithvictoria.org.au/upcoming-events/event/1358-buddhas-day-mul
 ticultural-festival-2018
END:VEVENT
BEGIN:VEVENT
UID:20260422T004842UTC-1309u3I1BU@https://faithvictoria.org.au/
DTSTAMP:20260422T004842Z
DESCRIPTION:Heartlight Centre for Conscious Living invites you to:\nSymphon
 y of Peace Prayers Ceremony 2018\nDate: Saturday 19 May 2018&nbsp\; &nbsp\
 ; &nbsp\; Time: 2pm to 5pmLocation:&nbsp\;Heartlight Centre for Conscious 
 Living\, 4 Nundah Drive\, Eltham 3095\nWe all have the power to hold the v
 ision of a peaceful\, prosperous world\, and therefore the power to see ou
 rselves and our earthly home in this original state of being.\nLet us affi
 rm and celebrate this vision as a conscious community.\nPlease join us for
  the Symphony of Peace Prayers Ceremony\, an interfaith event including th
 e offering of prayers\, blessings\, and poems in praise of the countries a
 nd traditions of the world\, plus the Dances of Universal Peace\, music\, 
 and meditation. Our gathering will be held the same weekend as the annual 
 event held at Mt Fuji in Japan for the peace and awakening of humanity and
  recognizing the Divine Spark in everyone. This is the 14th year of this w
 orldwide sacred occasion.\nWhat to bring:\n\nA poem\, prayer\, blessing\, 
 message\, song\, or dance for peace... \nHealthy plates of food to share f
 or afternoon tea are welcome!\n\nRSVP: Thursday 18 May 2018 | Gloria | 042
 5 754 995&nbsp\; |gloriagrace@heartlight.com.au&nbsp\;(appreciated as soon
  as possible to help us with&nbsp\;planning the program)Please join us for
  a wonderful event of sharing for personal and planetary&nbsp\;peace!\nWe 
 appreciate your interest in and support for the Heartlight Centre for&nbsp
 \;Conscious Living and the services\, events\, and activities we provide. 
 Our purpose is to contribute to personal and spiritual growth and supporti
 ng&nbsp\;the world through the power of inner work\, conscious living\, sa
 cred dance&nbsp\;and music\, and the gathering of like-minded souls and he
 arts. https://faithvictoria.org.au/upcoming-events/event/1363-symphony-of-
 peace-prayers-ceremony-2018-heartlight-centre-for-conscious-living
DTSTART:20180519T140000Z
DTEND:20180519T170000Z
LOCATION:Heartlight Centre for Conscious Living\, 4 Nundah Drive\, Eltham 3
 095 (4 Nundah Dr\, Eltham VIC 3095\, Australia)
SUMMARY:Symphony of Peace Prayers Ceremony 2018: Heartlight Centre for Cons
 cious Living
URL:https://faithvictoria.org.au/upcoming-events/event/1363-symphony-of-pea
 ce-prayers-ceremony-2018-heartlight-centre-for-conscious-living
END:VEVENT
BEGIN:VEVENT
UID:20260422T004842UTC-1316HwPI1R@https://faithvictoria.org.au/
DTSTAMP:20260422T004842Z
DESCRIPTION:Maroondah Interfaith Network invites you to:\nArts in Faiths\nD
 ate: Saturday 19 May 2018&nbsp\; &nbsp\; &nbsp\; Time: 2pm to 5pmLocation:
 &nbsp\;Janssen Spirituality Centre\,&nbsp\;22 Woodvale Road\,&nbsp\;Boroni
 a VIC 3155\nA hands-on workshop presented by artists from various faiths: 
 Islamic marble painting\, Anglican tapestry and Christian icon painting.\n
 For more information\, please visit&nbsp\;https://maroondahinterfaith.org.
 au/arts-in-faith/To register\, please click here. https://faithvictoria.or
 g.au/upcoming-events/event/1364-arts-in-faith-maroondah-interfaith-network
DTSTART:20180519T140000Z
DTEND:20180519T170000Z
LOCATION:Janssen Spirituality Centre\, 22 Woodvale Road Boronia Victoria 31
 55 (Janssen Spirituality Centre\, 22 Woodvale Road Boronia Victoria 3155)
SUMMARY:Arts in Faith: Maroondah Interfaith Network
URL:https://faithvictoria.org.au/upcoming-events/event/1364-arts-in-faith-m
 aroondah-interfaith-network
END:VEVENT
END:VCALENDAR
