BEGIN:VCALENDAR
VERSION:2.0
PRODID:-//https://faithvictoria.org.au///NONSGML kigkonsult.se iCalcreator 2.10.15//
METHOD:PUBLISH
BEGIN:VEVENT
UID:20260422T140253UTC-0776GvNgz1@https://faithvictoria.org.au/
DTSTAMP:20260422T140253Z
DESCRIPTION:ShavuotStarts on: Sunday&nbsp\;17 May 2021Religion: Judaism\nSh
 avuot\, also known as Feast of Weeks\, commemorates the anniversary of the
  day God gave the Torah and Commandments to the entire nation of Israel as
 sembled at Mount Sinai. Marks the conclusion of the seven weeks following 
 Pesach. Originally a harvest festival. https://faithvictoria.org.au/upcomi
 ng-events/event/1265-shavuot-judaism
DTSTART:20210517T000000Z
DTEND:20210518T000000Z
LOCATION:RSEvents!Pro Location (Colorado\, USA)
SUMMARY:Shavuot (Judaism)
URL:https://faithvictoria.org.au/upcoming-events/event/1265-shavuot-judaism
END:VEVENT
BEGIN:VEVENT
UID:20260422T140253UTC-0780aWZZeO@https://faithvictoria.org.au/
DTSTAMP:20260422T140253Z
DESCRIPTION:Wyndham Interfaith Network invites you to:\nSacrifice and Servi
 ce in Faith communities\nDate: Tuesday 18 May 2021&nbsp\; &nbsp\; &nbsp\;T
 ime: 6:30pm to 9pmLocation:&nbsp\;Jai Ho Indian Restaurant\, 8/428 \, Old 
 Geelong Road\, Hoppers Crossing VIC 3029\nA panel discussion between membe
 rs of different faiths in Wyndham to add to our understanding of how these
  terms are viewed.\nThis is accompanied with shared set vegetarian meal at
  $30 per person.\nTo book\, please click here.&nbsp\;\nFor more infomation
 \, contact Laurence Gray laurenceg@wyndhamcec.org.au&nbsp\;&nbsp\; https:/
 /faithvictoria.org.au/upcoming-events/event/1781-sacrifice-and-service-in-
 faith-communities-wyndham-interfaith-network
DTSTART:20210518T183000Z
DTEND:20210518T210000Z
LOCATION:Jai Ho Indian Restaurant\, 8/428 \, Old Geelong Road\, Hoppers Cro
 ssing VIC 3029 (8/428 Old Geelong Rd\, Hoppers Crossing VIC 3029\, Austral
 ia)
SUMMARY:Sacrifice and Service in Faith communities: Wyndham Interfaith Netw
 ork
URL:https://faithvictoria.org.au/upcoming-events/event/1781-sacrifice-and-s
 ervice-in-faith-communities-wyndham-interfaith-network
END:VEVENT
END:VCALENDAR
