BEGIN:VCALENDAR
VERSION:2.0
PRODID:-//https://faithvictoria.org.au///NONSGML kigkonsult.se iCalcreator 2.10.15//
METHOD:PUBLISH
BEGIN:VEVENT
UID:20260420T081412UTC-1339Il0R5T@https://faithvictoria.org.au/
DTSTAMP:20260420T081412Z
DESCRIPTION:Fo Guang Shan Melbourne invites you to:\nBuddha's Day and Multi
 culural Festival:\nDate: Friday 14 May to Sunday 16 May 2021Location: Fede
 ration Square\, Melbourne\nThe free annual Buddha’s Day and Multicultural 
 Festival is a not-for-profit festival\, which promotes inclusiveness\, cul
 tural awareness\, cultural understanding\; and enhances community spirit a
 nd social harmony. The 3-day festival celebrates Buddha’s birthday and the
  diversity of our multicultural and multi-faith society through traditiona
 l Buddhist Ceremonies\, arts\, music\, cultural performances\, social and 
 spiritual wellbeing lectures\, world peace prayers\, blessing ceremonies\,
  children’s activities and much more. The festival contributes to the arts
 \, civic culture\, interfaith dialogue and cultural dimensions of this gre
 at city.\nFor details\, please visit website.\nFriday 14 May 2021\n\nBless
 ing Ceremony at 5pm\nLight Up Ceremony at 6:30pm\n\nSaturday 15 May 2021\n
 \nWorld Peace Blessing Ceremony from 2pm - 3:30pm\nMulticultural Performan
 ces from 10am to 7pm\nBubbly's Monster Bubbles from 10:30am to 7:20pm\nLig
 ht it Up! from 6:30pm onwards\n\nSunday 16 May 2021\n\nMulticultural Perfo
 rmances from 11:15am to 4:15pm\nBubbly's Monster Bubbles from 12pm to 4:30
 pm\n https://faithvictoria.org.au/upcoming-events/event/1779-buddhas-day-a
 nd-multiculural-festival-fo-guang-shan-melbourne
DTSTART:20210514T170000Z
DTEND:20210516T163000Z
LOCATION:Federation Square\, Melbourne VIC 3000 (Swanston St & Flinders St\
 , Melbourne VIC 3000\, Australia)
SUMMARY:Buddha's Day and Multiculural Festival: Fo Guang Shan Melbourne
URL:https://faithvictoria.org.au/upcoming-events/event/1779-buddhas-day-and
 -multiculural-festival-fo-guang-shan-melbourne
END:VEVENT
END:VCALENDAR
