BEGIN:VCALENDAR
VERSION:2.0
PRODID:-//https://faithvictoria.org.au///NONSGML kigkonsult.se iCalcreator 2.10.15//
METHOD:PUBLISH
BEGIN:VEVENT
UID:20260420T012048UTC-0885U3BB9i@https://faithvictoria.org.au/
DTSTAMP:20260420T012048Z
DESCRIPTION:The Faith Communities Council of Victoria in association with t
 he Victorian Government's Multifaith Advisory Group invites you to:\nONLIN
 E VIGIL FOR INDIA\nDate: Tuesday 11 May 2021&nbsp\; &nbsp\; &nbsp\; Time: 
 5pm to 5:45pmLocation:&nbsp\;Zoom Link: tiny.cc/vigilforindia\nJoin faith 
 leaders in Melbourne for an online vigil for the COVID crisis being faced 
 in India and by our Indian communities.\nYou are invited to light a candle
  in solidarity at this reflective meditative event\, supporting and connec
 ting communities in these difficult times.\nFor flyer\, click here.&nbsp\;
 \nFor more information see: http://faithvictoria.org.au/news-a-articles/11
 86-vigil-for-india https://fb.me/e/SjcSLyjc\n https://faithvictoria.org.au
 /upcoming-events/event/1785-online-vigil-for-india-faith-communities-counc
 il-of-victoria
DTSTART:20210511T170000Z
DTEND:20210511T174500Z
LOCATION:Melbourne VIC 3000 (Melbourne VIC\, Australia)
SUMMARY:Online Vigil for India: Faith Communities Council of Victoria
URL:https://faithvictoria.org.au/upcoming-events/event/1785-online-vigil-fo
 r-india-faith-communities-council-of-victoria
END:VEVENT
END:VCALENDAR
