BEGIN:VCALENDAR
VERSION:2.0
PRODID:-//https://faithvictoria.org.au///NONSGML kigkonsult.se iCalcreator 2.10.15//
METHOD:PUBLISH
BEGIN:VEVENT
UID:20260419T232858UTC-09261rHO4u@https://faithvictoria.org.au/
DTSTAMP:20260419T232858Z
DESCRIPTION:The Federal Parliamentary Friends of Multiculturalism\, in part
 nership with Religions for Peace Australia &amp\; Canberra Interfaith Foru
 m invite you to:\nUN Interfaith Harmony Lecture 2021 via ZoomReconciliatio
 n &amp\; multifaith: Aboriginal worldviews and the Australian Christian he
 ritage\nDate: Monday 10 May 2021&nbsp\; &nbsp\; &nbsp\;Time: 6:10pm to 8pm
 Location:&nbsp\;The link to the online event to be provided by the event o
 rganiser\nSpeaker:&nbsp\;Senator Patrick Dodson\nTo register\, please clic
 k here.&nbsp\;\nMore about speaker:&nbsp\;Senator Patrick Dodson is a Yawu
 ru man from Broome in Western Australia. He has dedicated his life work to
  being an advocate for constructive relationships between Indigenous and n
 on-Indigenous peoples based on mutual respect\, understanding and dialogue
 . He is a recipient of the Sydney International Peace prize. Patrick has e
 xtensive experience in Aboriginal Affairs\, previously as Director of the 
 Central and Kimberley Land Councils and as a Commissioner in the Royal Com
 mission into Aboriginal Deaths in Custody. He also served as inaugural Cha
 ir of the Council for Aboriginal Reconciliation and as Co-Chair of the Exp
 ert Panel for Constitutional Recognition of Indigenous Australians. Prior 
 to his endorsement by the Australian Labor Party as a Western Australian S
 enator in March 2016\, Patrick was a member of the ANU Council\, Adjunct P
 rofessor at the University of Notre Dame (Broome) and Co-Chair of the Nati
 onal Referendum Council. Since entering the Parliament in 2016 as Senator 
 for Western Australia and Shadow Assistant Minister for Indigenous Affairs
  and Aboriginal and Torres Strait Islanders\, Patrick has fought for justi
 ce for First Nations People and a fair go for remote and regional WA. Sena
 tor Patrick Dodson currently the Co-Chair of the Joint Select Committee on
  Constitutional Recognition Relating to Aboriginal and Torres Strait Islan
 der Peoples 2018. You may read Patrick’s First Speech.\n&nbsp\; https://fa
 ithvictoria.org.au/upcoming-events/event/1778-un-interfaith-harmony-lectur
 e-2021-religions-for-peace-australia
DTSTART:20210510T181000Z
DTEND:20210510T200000Z
LOCATION:Melbourne VIC 3000 (Melbourne VIC\, Australia)
SUMMARY:UN Interfaith Harmony Lecture 2021: Religions for Peace Australia
URL:https://faithvictoria.org.au/upcoming-events/event/1778-un-interfaith-h
 armony-lecture-2021-religions-for-peace-australia
END:VEVENT
END:VCALENDAR
