BEGIN:VCALENDAR
VERSION:2.0
PRODID:-//https://faithvictoria.org.au///NONSGML kigkonsult.se iCalcreator 2.10.15//
METHOD:PUBLISH
BEGIN:VEVENT
UID:20260424T103112UTC-8174C808LF@https://faithvictoria.org.au/
DTSTAMP:20260424T103112Z
DESCRIPTION:Monash Interfaith Gathering invites you to:\nHarmony Day Celebr
 ation 2026\nDate: Saturday 9 May 2026&nbsp\; &nbsp\; &nbsp\;Time: 1:30pm t
 o 5pmLocation:&nbsp\;Mulgrave Community Centre\, 355 Wellington Road\, Mul
 grave&nbsp\;\nMonash Interfaith Gathering\, Inc.cordially invites you to o
 ur annual Harmony Day Celebration 'Unity in Diversity'.Renowned Guest Spea
 ker: Heather YellandFamilies\, children and youth programs. All are welcom
 e. Please click here to register. https://faithvictoria.org.au/upcoming-ev
 ents/event/2448-harmony-day-celebration-2026-monash-interfaith-gathering
DTSTART:20260509T133000Z
DTEND:20260509T170000Z
LOCATION:Mulgrave Community Centre\, 355 Wellington Road\, Mulgrave 3170 (3
 55 Wellington Rd\, Mulgrave VIC 3170\, Australia)
SUMMARY:Harmony Day Celebration 2026: Monash Interfaith Gathering
URL:https://faithvictoria.org.au/upcoming-events/event/2448-harmony-day-cel
 ebration-2026-monash-interfaith-gathering
END:VEVENT
END:VCALENDAR
