BEGIN:VCALENDAR
VERSION:2.0
PRODID:-//https://faithvictoria.org.au///NONSGML kigkonsult.se iCalcreator 2.10.15//
METHOD:PUBLISH
BEGIN:VEVENT
UID:20260419T214351UTC-7589ERUdVO@https://faithvictoria.org.au/
DTSTAMP:20260419T214351Z
DESCRIPTION:The Council of Christians and Jews (Vic) Inc invites you to:\nT
 he Poetry of Prayer\nDate: Sunday 9 May 2021&nbsp\; &nbsp\; &nbsp\; Time: 
 3pm to 5pmLocation:&nbsp\;Etz Chayim\, 549 Centre Road Bentleigh VIC 3204
 \nYoram Symons is a slam poet\, Jewish prayer leader and magi (storyteller
 ). He performs creative interpretations of traditional Jewish liturgy and 
 stories infusing them with slam poetry technique and spoken words stylings
 . The Poetry of Prayer is a showcase of works exploring how traditional te
 xts and practices can be reimagined to generate meaning in modern contexts
 .\nPlease note: This is a hybrid event (in person + online via Zoom). Ther
 e is capacity for only the first 30 people to be in person at this event. 
 For anyone else\, the event will be presented live on Zoom.&nbsp\;\nZoom M
 eeting ID: 962 3359 0860 | Passcode: 217228\nTo book to attend in person\,
  click here.&nbsp\; https://faithvictoria.org.au/upcoming-events/event/178
 2-the-poetry-of-prayer-the-council-of-christians-and-jews-vic-inc
DTSTART:20210509T150000Z
DTEND:20210509T170000Z
LOCATION:Etz Chayim\, 549 Centre Road Bentleigh VIC 3204 (549 Centre Rd\, B
 entleigh VIC 3204\, Australia)
SUMMARY:The Poetry of Prayer: The Council of Christians and Jews (Vic)  Inc
URL:https://faithvictoria.org.au/upcoming-events/event/1782-the-poetry-of-p
 rayer-the-council-of-christians-and-jews-vic-inc
END:VEVENT
END:VCALENDAR
