BEGIN:VCALENDAR
VERSION:2.0
PRODID:-//https://faithvictoria.org.au///NONSGML kigkonsult.se iCalcreator 2.10.15//
METHOD:PUBLISH
BEGIN:VEVENT
UID:20260422T172133UTC-8247DgV4EN@https://faithvictoria.org.au/
DTSTAMP:20260422T172133Z
DESCRIPTION:The Melton Interfaith Network\, the Brimbank &amp\; Maribyrnong
  Interfaith Network\, the Wyndham Interfaith Network and the Hobson's Bay 
 Interfaith Network invite you to:\nBuilding Equality and Respect\nDate:&nb
 sp\;Wednesday 9 May 2018&nbsp\; &nbsp\; &nbsp\; &nbsp\;&nbsp\;Time:&nbsp\;
 6:30pm to 8:30pmLocation:&nbsp\;Melton Library\, 31 McKenzie Street\, Melt
 on\nFree Workshops are being held by Women's Health West. Come along and l
 earn about the types\, prevalences and causes of violence against women\, 
 as well as learning about ideas and actions to prevent violence against wo
 men. The workshop has been broken into two parts across April and May\; pa
 rticipants are recommended to attend both sessions. (First workshop was he
 ld on Wednesday 11 April 2018)\nLight catering will be provided.\nEnquirie
 s:&nbsp\;davidcowan56@gmail.com\nSponsored by Djerriwarrah Health Services
 \, IPC Health\, Melton City Council\, Wyndham City Council\, Brimbank City
  Council\, Hobson's Bay City Council and Women of Wyndham. https://faithvi
 ctoria.org.au/upcoming-events/event/1353-building-equality-and-respect-mel
 ton-interfaith-network
DTSTART:20180509T183000Z
DTEND:20180509T203000Z
LOCATION:Melton Library\, 31 McKenzie Street\, Melton (31 McKenzie St\, Mel
 ton VIC 3337\, Australia)
SUMMARY:Building Equality and Respect: Melton Interfaith Network
URL:https://faithvictoria.org.au/upcoming-events/event/1353-building-equali
 ty-and-respect-melton-interfaith-network
END:VEVENT
END:VCALENDAR
