BEGIN:VCALENDAR
VERSION:2.0
PRODID:-//https://faithvictoria.org.au///NONSGML kigkonsult.se iCalcreator 2.10.15//
METHOD:PUBLISH
BEGIN:VEVENT
UID:20260422T190846UTC-3476MItHVG@https://faithvictoria.org.au/
DTSTAMP:20260422T190846Z
DESCRIPTION:The Casey Multifaith Network invites you to:\nTour to Places of
  Worship\nDate: Tuesday 8 May 2018&nbsp\; &nbsp\; &nbsp\;Time: 9am to 3pmB
 us pick-up point: Casey ARC swimming pool\,&nbsp\;10 Patrick NE Dr\, Narre
  Warren VIC 3805\nTour includes visits to:\n\nShri Shiva Vishnu Temple\, C
 arrum Downs\nTurkish Islamic Centre of Keysborough\nUniting Church\, Hampt
 on Park\n\nLunch will be served at Uniting Church\nRespectful practices:\n
 \nArms and legs to be covered\nScarf for hair and socks for Mosque for lad
 ies\nShoes to be removed at Hindu temple\n\nCost: $10 per family plus $5 d
 onation towards lunchMore information: caseymultifaith@gmail.com&nbsp\; ht
 tps://faithvictoria.org.au/upcoming-events/event/1361-tour-to-places-of-wo
 rship-casey-multifaith-network
DTSTART:20180508T090000Z
DTEND:20180508T150000Z
LOCATION:Casey ARC Swimming Pool\, 10 Patrick NE Dr\, Narre Warren VIC 3805
  (10 Patrick NE Dr\, Narre Warren VIC 3805\, Australia)
SUMMARY:Tour to Places of Worship: Casey Multifaith Network
URL:https://faithvictoria.org.au/upcoming-events/event/1361-tour-to-places-
 of-worship-casey-multifaith-network
END:VEVENT
END:VCALENDAR
