BEGIN:VCALENDAR
VERSION:2.0
PRODID:-//https://faithvictoria.org.au///NONSGML kigkonsult.se iCalcreator 2.10.15//
METHOD:PUBLISH
BEGIN:VEVENT
UID:20260423T001901UTC-5167wmtVSE@https://faithvictoria.org.au/
DTSTAMP:20260423T001901Z
DESCRIPTION:The Mornington Peninsula Interfaith Network would like to invit
 e you to:\nListening to the Land (Autumn Walk) @ OT Dam Circuit Walk\, Dro
 mana\nDate: Saturday 5th May 2018&nbsp\; &nbsp\; &nbsp\; &nbsp\; Time: 10:
 30am - 1:30pmMeeting Point: Parking on Arthurs Seat Road (400 metres west 
 of Main Creek Road)\, DromanaMelway Reference: 171 K2Click here for more i
 nformation on OT Dam Circuit Walk\nListening to the Land is an initiative 
 of the Mornington Peninsula Interfaith Network\, seeking to bring people f
 rom different faith and cultural backgrounds together to connect or reconn
 ect with the Land and to be moved to care for the Land.\nOur Autumn Listen
 ing to the Land program will be held at OT Dam Circuit Walk\, Dromana on S
 aturday 5 May\, 2018. Program begins at 10:30am and includes an introducto
 ry talk\, a listening walk\, and a meditation. The walk and meditation wil
 l be led by Lionel Lauch\, a Gunditjmara Kirrae Wurrung-Bundjalung man.\nT
 he OT Dam Circuit Walk is a 3 km circuit in tranquil bushland including Eu
 calyptus forests and with a boardwalk around O.T. Dam. The walk is well si
 gn posted and borders the Hillview quarry.\nThe program will conclude arou
 nd 1pm followed by a shared afternoon lunch . BYO Vegetarian food - someth
 ing easy to share. Plates\, cups and drinks will be provided.\nMeeting poi
 nt is the parking area on Arthurs Seat Road (400 metres west of Main Creek
  Road) Dromana.\nLook forward to seeing you there &ndash\; sunshine or rai
 n.\nCost: The event is by donation.\nLocation: Parking on Arthurs Seat Roa
 d (400 metres west of Main Creek Road) DromanaContact: Judy O&rsquo\;Donne
 ll | 03 5974 4969 | 0400 088 410 https://faithvictoria.org.au/upcoming-eve
 nts/event/1355-listening-to-the-land-autumn-walk-mornington-peninsula-inte
 rfaith-network
DTSTART:20180505T103000Z
DTEND:20180505T133000Z
LOCATION:OT Dam\, Arthurs Seat Road\, Arthurs Seat\, Mornington Peninsula (
 OT Dam\, Arthurs Seat Road\, Arthurs Seat\, Mornington Peninsula)
SUMMARY:Listening to the Land (Autumn Walk): Mornington Peninsula Interfait
 h Network
URL:https://faithvictoria.org.au/upcoming-events/event/1355-listening-to-th
 e-land-autumn-walk-mornington-peninsula-interfaith-network
END:VEVENT
END:VCALENDAR
