BEGIN:VCALENDAR
VERSION:2.0
PRODID:-//https://faithvictoria.org.au///NONSGML kigkonsult.se iCalcreator 2.10.15//
METHOD:PUBLISH
BEGIN:VEVENT
UID:20260419T124759UTC-0601hKxtsI@https://faithvictoria.org.au/
DTSTAMP:20260419T124759Z
DESCRIPTION:The Australian Baha'i Community warmly invites you to:\nCreatin
 g an Inclusive Narrative publication - Victorian Launch\nDate: Tuesday 4 M
 ay 2021&nbsp\; &nbsp\; &nbsp\; Time: 6pm to 7:30pmLocation:&nbsp\;Amargh C
 entre - Initiatives of Change\, 226 Kooyong Road\, Toorak VIC 3142\nThe pu
 blication will be launched by the Hon. Katie Allen MP\, member for Higgins
 .\nFollowing the presentations\, an opportunity will be provided to explor
 e key themes and Pathways for Action identified from the Creating an Inclu
 sive Narrative roundtables. Download publication here.\nPROGRAM\n\n6pm - A
 rrival and short-eats\n6:30pm - Formal addresses and presentations\n7pm - 
 Creating and Inclusive Narrative - Participant discussion\n7:30pm - Close
 \n\nDress: Business or cultural dress\nBookings: Click here please. https:
 //faithvictoria.org.au/upcoming-events/event/1780-creating-an-inclusive-na
 rrative-australian-bahai-community
DTSTART:20210504T180000Z
DTEND:20210504T193000Z
LOCATION:Amargh Centre - Initiatives of Change\, 226 Kooyong Road\, Toorak 
 VIC 3142 (226 Kooyong Rd\, Toorak VIC 3142\, Australia)
SUMMARY:Creating an Inclusive Narrative: Australian Baha'i Community
URL:https://faithvictoria.org.au/upcoming-events/event/1780-creating-an-inc
 lusive-narrative-australian-bahai-community
END:VEVENT
END:VCALENDAR
