BEGIN:VCALENDAR
VERSION:2.0
PRODID:-//https://faithvictoria.org.au///NONSGML kigkonsult.se iCalcreator 2.10.15//
METHOD:PUBLISH
BEGIN:VEVENT
UID:20260423T065837UTC-6727CliI4u@https://faithvictoria.org.au/
DTSTAMP:20260423T065837Z
DESCRIPTION:The Melton Interfaith Network\, in partnership with Foundation 
 for a Drug-free World\, invites you to:\nFaiths Unite Against Drugs\nDate:
  Wednesday 2 May 2018&nbsp\; &nbsp\; &nbsp\;Time: 11amLocation:&nbsp\;Melt
 on Community Hall\, 238 High Street\, Melton\, Vic 3337\nPresentations:&nb
 sp\;\n\nWhat different faiths say about drugs | How to Say &ldquo\;No&rdqu
 o\; to the Drug Culture.\nThe Truth About Drugs | Making Grassroots Drug E
 ducation Work in Your Neighborhood. Free educational materials provided!\n
 Real People\, Real Stories | People&rsquo\;s real experiences with drug ad
 diction - find out why kids start taking drugs\, and what can help them de
 cide not to\n\nDrugs are a problem that affect all nations\, races and rel
 igions.&nbsp\;Drugs take away our children&rsquo\;s future\, happiness and
  health. We can&nbsp\;work together to tackle the drug problems in our com
 munities\, come&nbsp\;join us and get the tools you need to help your comm
 unity!\nLight refreshments served.\nRSVP:&nbsp\;0410 534 476 | jason@drugf
 reeambassadors.org.au\nSupported by the Melton City Council. https://faith
 victoria.org.au/upcoming-events/event/1346-faiths-unite-against-drugs-melt
 on-interfaith-network
DTSTART:20180502T110000Z
DTEND:20180502T130000Z
LOCATION:Melton Community Hall\, 238 High Street\, Melton\, Vic 3337 (238 H
 igh St\, Melton VIC 3337\, Australia)
SUMMARY:Faiths Unite Against Drugs: Melton Interfaith Network
URL:https://faithvictoria.org.au/upcoming-events/event/1346-faiths-unite-ag
 ainst-drugs-melton-interfaith-network
END:VEVENT
END:VCALENDAR
