BEGIN:VCALENDAR
VERSION:2.0
PRODID:-//https://faithvictoria.org.au///NONSGML kigkonsult.se iCalcreator 2.10.15//
METHOD:PUBLISH
BEGIN:VEVENT
UID:20260423T134912UTC-8706reJIJT@https://faithvictoria.org.au/
DTSTAMP:20260423T134912Z
DESCRIPTION:The Hume Interfaith Networks invites you to:\nDaham Niketanaya 
 Buddhist Temple Tour\nDate: Saturday 28 April 2018&nbsp\; &nbsp\; &nbsp\;T
 ime: 6pmLocation: 1690 Mickleham Road\, Yuroke VIC 3063Bus pickup point at
  5:30pm: Hume Global Learning Centre\, 1093 Pascoe Vale Rd\, Broadmeadows 
 VIC 3047 (free shuttle)\nThe Daham Niketanaya was established in 1994 by t
 he North Victorian Buddhist Association Inc. Now located at Yuroke\, the t
 emple's main objectives is to maintain a centre for education and training
  in Buddhist culture and Asian languages.&nbsp\;The temple also engages in
  activities to increase awareness of Buddhism and meditation in the wider 
 community. One of temple's main tasks is to promote social fellowship and 
 harmony within the framework of tolerance\, participation\, loving kindnes
 s and compassion in keeping with the Buddhist tradition.\nThe Centre also 
 caters for the practice of meditation and encourages the practical observa
 nce of Theravada Buddhism for Buddhists and non Buddhists among Australian
 s.\nPlease note:\n\nModest attire required\nPlease avoid wearing dark colo
 urs\nShoes not to be worn inside the temple\nHands must be washed upon ent
 ry to the temple\nSmoking not permitted\n\nVegetarian Dinner provided |&nb
 sp\;Bookings essentialRSVP:&nbsp\;joannan@hume.vic.gov.au&nbsp\;| 03 9205 
 2472For more information: www.dahamniketanaya.org.au\nThis event is suppor
 ted by the State of Victoria and the Hume City Council https://faithvictor
 ia.org.au/upcoming-events/event/1360-daham-niketanaya-buddhist-temple-tour
 -hume-interfaith-network
DTSTART:20180428T180000Z
DTEND:20180428T210000Z
LOCATION:Daham Niketanaya Temple\, 1690 Mickleham Road\, Yuroke VIC 3063 (1
 690 Mickleham Rd\, Yuroke VIC 3063\, Australia)
SUMMARY:Daham Niketanaya Buddhist Temple Tour: Hume Interfaith Network
URL:https://faithvictoria.org.au/upcoming-events/event/1360-daham-niketanay
 a-buddhist-temple-tour-hume-interfaith-network
END:VEVENT
END:VCALENDAR
