BEGIN:VCALENDAR
VERSION:2.0
PRODID:-//https://faithvictoria.org.au///NONSGML kigkonsult.se iCalcreator 2.10.15//
METHOD:PUBLISH
BEGIN:VEVENT
UID:20260422T122929UTC-4791Hb6iue@https://faithvictoria.org.au/
DTSTAMP:20260422T122929Z
DESCRIPTION:PesachBegins on&nbsp\;Sunday 13 April 2025Ends on&nbsp\;Sunday 
 20 April 2025Faith:&nbsp\;&nbsp\;Judaism\nAn eight-day festival for famili
 es and communities to remember the time when Hebrew slaves were led by Mos
 es out of Egypt to freedom. The festival begins with the Seder meal during
  which time the story of their deliverance is told. The first and last two
  days are holidays. Also known as Passover. https://faithvictoria.org.au/u
 pcoming-events/event/2205-pesach-judaism
DTSTART:20250413T000000Z
DTEND:20250420T235927Z
LOCATION:RSEvents!Pro Location (Colorado\, USA)
SUMMARY:Pesach | Judaism 
URL:https://faithvictoria.org.au/upcoming-events/event/2205-pesach-judaism
END:VEVENT
BEGIN:VEVENT
UID:20260422T122929UTC-480009BmAv@https://faithvictoria.org.au/
DTSTAMP:20260422T122929Z
DESCRIPTION:EasterSunday 20 April 2025Faith: Christianity\nThe resurrection
  of Jesus Christ following his death by crucifixion. https://faithvictoria
 .org.au/upcoming-events/event/2209-easter-christianity
DTSTART;VALUE=DATE:20250420
LOCATION:RSEvents!Pro Location (Colorado\, USA)
SUMMARY:Easter | Christianity 
URL:https://faithvictoria.org.au/upcoming-events/event/2209-easter-christia
 nity
END:VEVENT
BEGIN:VEVENT
UID:20260422T122929UTC-5007BsmCiT@https://faithvictoria.org.au/
DTSTAMP:20260422T122929Z
DESCRIPTION:Easter/PaschaSunday 20 April 2025Faith: Orthodox Christianity\n
 The resurrection of Jesus Christ following his death by crucifixion. https
 ://faithvictoria.org.au/upcoming-events/event/2210-easter-pascha-orthodox-
 christianity
DTSTART;VALUE=DATE:20250420
LOCATION:RSEvents!Pro Location (Colorado\, USA)
SUMMARY:Easter/Pascha | Orthodox Christianity 
URL:https://faithvictoria.org.au/upcoming-events/event/2210-easter-pascha-o
 rthodox-christianity
END:VEVENT
BEGIN:VEVENT
UID:20260422T122929UTC-5013GV7GAW@https://faithvictoria.org.au/
DTSTAMP:20260422T122929Z
DESCRIPTION:Ridvan Begins on&nbsp\;Sunday 20 April 2025Ends on Thursday 1 M
 ay 2025Faith: Baha'i\nBaha'i commemoration of the twelve-day period that B
 aha’u’llah\, the founder of the Baha’i faith\, spent in the Garden of Ridv
 an in the last days of his exile in Baghdad\, and publicly proclaimed His 
 mission as God’s messenger for this age. The first\, ninth and twelfth day
 s are celebrated as holy days and work is suspended. https://faithvictoria
 .org.au/upcoming-events/event/2211-ridvan-bahai
DTSTART:20250420T181156Z
DTEND:20250501T181033Z
LOCATION:RSEvents!Pro Location (Colorado\, USA)
SUMMARY:Ridvan | Baha'i
URL:https://faithvictoria.org.au/upcoming-events/event/2211-ridvan-bahai
END:VEVENT
END:VCALENDAR
