BEGIN:VCALENDAR
VERSION:2.0
PRODID:-//https://faithvictoria.org.au///NONSGML kigkonsult.se iCalcreator 2.10.15//
METHOD:PUBLISH
BEGIN:VEVENT
UID:20260419T122546UTC-8869zPlGXv@https://faithvictoria.org.au/
DTSTAMP:20260419T122546Z
DESCRIPTION:Great LentBegins on Monday 18 March 2024Ends on Friday 26 April
  2024Orthodox Christianity\nGreat Lent is the period of 40 days which come
 s before Easter\, traditionally a time of fasting and reflection. The 40 d
 ays represents the time Jesus spent in the desert overcoming temptation by
  Satan. In the Orthodox Church\, Great Lent starts on Clean Monday and end
 s on the Friday before Lazarus Saturday and Palm Sunday. https://faithvict
 oria.org.au/upcoming-events/event/2057-great-lent-orthodox-christianity
DTSTART:20240318T165912Z
DTEND:20240426T165912Z
LOCATION:RSEvents!Pro Location (Colorado\, USA)
SUMMARY:Great Lent | Orthodox Christianity 
URL:https://faithvictoria.org.au/upcoming-events/event/2057-great-lent-orth
 odox-christianity
END:VEVENT
BEGIN:VEVENT
UID:20260419T122546UTC-8874n86mpm@https://faithvictoria.org.au/
DTSTAMP:20260419T122546Z
DESCRIPTION:Rama Navami Wednesday 17 April 2024Faith: Hinduism\nHindu festi
 val celebrating the birth of Lord Rama\, the seventh incarnation of the Hi
 ndu God Vishnu and hero of the religious epic poem ‘The Ramayana’. https:/
 /faithvictoria.org.au/upcoming-events/event/2064-rama-navami-hinduism
DTSTART;VALUE=DATE:20240417
LOCATION:RSEvents!Pro Location (Colorado\, USA)
SUMMARY:Rama Navami | Hinduism
URL:https://faithvictoria.org.au/upcoming-events/event/2064-rama-navami-hin
 duism
END:VEVENT
END:VCALENDAR
