BEGIN:VCALENDAR
VERSION:2.0
PRODID:-//https://faithvictoria.org.au///NONSGML kigkonsult.se iCalcreator 2.10.15//
METHOD:PUBLISH
BEGIN:VEVENT
UID:20260424T072826UTC-9591fm831c@https://faithvictoria.org.au/
DTSTAMP:20260424T072826Z
DESCRIPTION:The Wyndham Interfaith Network invites you to:\nPlaces of Worsh
 ip Tour\nDate: Tuesday 17 April 2018&nbsp\; &nbsp\; &nbsp\; Time: 9am to 2
 pmBus pick-up Location:&nbsp\;Crossroads Uniting Church\, corner of Duncan
 s Rd and Synnot St\, Werribee VIC 3030 (Drop off at this location by 2pm)
 \nTour will visit:\n\n10am to 11:15am: The Church of Scientology | 231 - 2
 51 Mt Alexander Rd\, Ascot Vale VIC 3032\n11:45am to 1pm: Quang Minh Buddh
 ist Temple | 18 Burke St\, Braybrook VIC 3019 | Requirements: Remove shoes
  at entrance to the TempleLight lunch to follow\n\nCost: Free | A vegetari
 an lunch will be providedRegistration: Please click here.RSVP:&nbsp\;Thurs
 day 12 April | Laurence Gray 0401 337 696 | laurenceg@wyndhamcec.org.au&nb
 sp\; https://faithvictoria.org.au/upcoming-events/event/1341-places-of-wor
 ship-tour-wyndham-interfaith-network
DTSTART:20180417T090000Z
DTEND:20180417T140000Z
LOCATION:Crossroads Uniting Church\, corner of Duncans Rd and Synnot St\, W
 erribee VIC 3030 (Synnot St & Duncans Rd\, Werribee VIC 3030\, Australia)
SUMMARY:Places of Worship Tour: Wyndham Interfaith Network
URL:https://faithvictoria.org.au/upcoming-events/event/1341-places-of-worsh
 ip-tour-wyndham-interfaith-network
END:VEVENT
END:VCALENDAR
