BEGIN:VCALENDAR
VERSION:2.0
PRODID:-//https://faithvictoria.org.au///NONSGML kigkonsult.se iCalcreator 2.10.15//
METHOD:PUBLISH
BEGIN:VEVENT
UID:20260424T102820UTC-4595VrSt0D@https://faithvictoria.org.au/
DTSTAMP:20260424T102820Z
DESCRIPTION:Islamic Council of Victoria Invites you to:\nVictorian Open Mos
 que Day 2018\nDate: Sunday 16 April 2018&nbsp\; &nbsp\; &nbsp\; Time: 10am
  to 4pmLocation:&nbsp\;Islamic Council of Victoria\, 66-68 Jeffcott St\, W
 est Melbourne\, Victoria\, Australia 3003\nSeveral Mosques opened their he
 arts and doors for the Islamic Council of Victoria&rsquo\;s (ICV) - Victor
 ian Mosque Open Day project launch last year. Hundreds of Victorians flock
 ed to a local Mosque near them to get to know their Muslim neighbours\, pa
 rtaking in guided Mosque tours\, hijab tutorials\, henna tattoo art\, jump
 ing castles and other activities for kids\, sausage sizzles and discussion
 s about Islamic beliefs.\nThe state-wide annual event\, supported by the V
 ictorian Multicultural Commission and Victorian Government (Office of Mult
 icultural Affairs and Social Cohesion) is back this year\, in an attempt t
 o drum out the rise of Islamophobia.\nParticipating Mosques will open thei
 r doors to the Victorian public ‪on Sunday\, April 15 anytime between ‪10-
 4pm.\nThere are an estimated 200\,000 Muslims currently living in Victoria
  and over 476\,291 nationwide\, have you met one?\nThe following mosques a
 nd Islamic communities will open their doors on the day anytime between 10
 -4pm\;\n\nAlbanian Mosque (Albanian Australian Islamic Society) @ 765 Drum
 mond St\, Carlton North\nBenevolence Australia @ 125 George St\, Doncaster
  East\nCity Mosque (Islamic Council of Victoria) @ 66-68 Jeffcott St\, Mel
 bourne West\nDoncaster Mosque (UMMA Centre) @72 George St\, Doncaster East
 \nElsedeaq Heidelberg Mosque @ 32 Elliott St\, Heidelberg Heights\nIslamic
  Association of Monash Mosque @ 16 Beddoe Ave\, Clayton\nIslamic Museum of
  Australia (IMA) @ 15A Anderson Rd\, Thornbury\nLight of Hidayaah Mosque @
  TBC\nNewport Mosque @ 23/31 Blenheim Rd\, Newport\nOmar Farooq Mosque @ 1
 4-16 Photomia St\, Doveton\nPreston Mosque @ 90 Cramer St\, Preston\nVirgi
 n Mary Mosque (WIC) @ 143A Hogans Road\, Hoppers Crossing\n\nFind your nea
 rest participating mosque and keep up to date with the Victorian Mosque Op
 en Day here. https://faithvictoria.org.au/upcoming-events/event/1326-victo
 rian-mosque-open-day-islamic-council-of-victoria
DTSTART;VALUE=DATE:20180415
LOCATION:Islamic Council of Victoria\, 66-68 Jeffcott St\, West Melbourne\,
  Victoria\, Australia 3003 (66-68 Jeffcott St\, West Melbourne VIC 3003\, 
 Australia)
SUMMARY:Victorian Mosque Open Day: Islamic Council of Victoria
URL:https://faithvictoria.org.au/upcoming-events/event/1326-victorian-mosqu
 e-open-day-islamic-council-of-victoria
END:VEVENT
BEGIN:VEVENT
UID:20260424T102820UTC-4605N0p272@https://faithvictoria.org.au/
DTSTAMP:20260424T102820Z
DESCRIPTION:The Sonder Collective and Murrumbeena Uniting Church invite you
  to:\nMen of Faith\nDate: Sunday 15 April 2018&nbsp\; &nbsp\; &nbsp\; &nbs
 p\;Time: 5:30pm to 8pmLocation: Murrumbeena Uniting Church\, 117 Murrumbee
 na Road\, Murrumbeena VIC 3163\nWe are excited to bring the Men of Faith F
 orum where we will be hearing from five men\, for fifteen minutes each\, a
 nd how their faith impacts and shapes their lives:\n\nIslam\nSikhism\nBudd
 hism\nChristianity\nJudaism\n\nAfter such an amazing night hearing form ou
 r Women of Faith Forum back in January\, we are doing it all over again.\n
 Everyone - women and men\, any faith background\, those searching for fait
 h too - are invited to come and share in conversation\, listen to these am
 azing stories and ask some questions with these five men sharing their lif
 e journeys from their different faiths.\nGet ready to learn something new 
 and make some friends. https://faithvictoria.org.au/upcoming-events/event/
 1337-men-of-faith-murrumbeena-uniting-church
DTSTART:20180415T173000Z
DTEND:20180415T200000Z
LOCATION:Murrumbeena Uniting Church\, 117 Murrumbeena Road\, Murrumbeena VI
 C 3163 (117 Murrumbeena Rd\, Murrumbeena VIC 3163\, Australia)
SUMMARY:Men of Faith: Murrumbeena Uniting Church
URL:https://faithvictoria.org.au/upcoming-events/event/1337-men-of-faith-mu
 rrumbeena-uniting-church
END:VEVENT
BEGIN:VEVENT
UID:20260424T102820UTC-4611hD61h1@https://faithvictoria.org.au/
DTSTAMP:20260424T102820Z
DESCRIPTION:The Brimbank Maribyrnong Interfaith Network invites you to:\nTo
 ur of the Australian Islamic Centre of Newport | Victorian Mosque Open Day
 \nDate:&nbsp\;Sunday 15 April 2018&nbsp\; &nbsp\; Time: 10:30am to 1:30pmB
 us Pick-up Location:&nbsp\;10:30am in front of VISY Cares Hub\,&nbsp\;80B 
 Harvester Rd\, Sunshine VIC 3020 10:40am: Footscray Town Hall\,&nbsp\;61 N
 apier St\, Footscray VIC 3011\nThe Brimbank Maribyrnong Interfaith Network
  (BMIN) will take part in the second annual Victorian Mosque Open Day. A b
 us of up to 45 participants will visit the Australian Islamic Centre of Ne
 wport.\nThe Newport Mosque is &ldquo\;perhaps the first truly contemporary
  Australian mosque &hellip\; is an architectural and social marker of a ne
 w perception of Islam in Australia (see more at NGV). This visit will incl
 ude guided tour lead by the mosque architect\, the renowned Australian arc
 hitect Glenn Murcutt.\nThe Mosque Open Day is state-wide annual event\, ru
 n by Islamic Council of Victoria&rsquo\;s (ICV) is supported by the Victor
 ian Multicultural Commission and Victorian Government (Office of Multicult
 ural Affairs and Social Cohesion). You can find out more here. ​Bus will p
 ick up registered participants at 10:30am in front of VISY Cares Hub\, Sun
 shine\, and at 10:40am in next to Footscray Town Hall. Bus returns to both
  locations by 1:30pm.\nThe tour includes BBQ lunch provided at the Newport
  Mosque.\nThis is a free event. Register to attend now !!!\nThose with the
 ir own transport can meet the BMIN group at the mosque at 11:00am. The Mos
 que is located at 23/31 Blenheim Rd\, Newport. https://faithvictoria.org.a
 u/upcoming-events/event/1344-place-of-worship-tour-brimbank-and-maribyrnon
 g-interfaith-network
DTSTART:20180415T103000Z
DTEND:20180415T133000Z
LOCATION:Australian Islamic Centre of Newport\, 23/31 Blenheim Rd\, Newport
 \, VIC 3015 (23/31 Blenheim Rd\, Newport VIC 3015\, Australia)
SUMMARY:Place of Worship tour: Brimbank and Maribyrnong Interfaith Network
URL:https://faithvictoria.org.au/upcoming-events/event/1344-place-of-worshi
 p-tour-brimbank-and-maribyrnong-interfaith-network
END:VEVENT
END:VCALENDAR
