BEGIN:VCALENDAR
VERSION:2.0
PRODID:-//https://faithvictoria.org.au///NONSGML kigkonsult.se iCalcreator 2.10.15//
METHOD:PUBLISH
BEGIN:VEVENT
UID:20260425T183402UTC-13790n6zaE@https://faithvictoria.org.au/
DTSTAMP:20260425T183402Z
DESCRIPTION:Yom HaShoahThursday 14 April 2026Religion: Judaism\nYom HaShoah
 \, or Holocaust Remembrance Day\, remembers the victims of the Holocaust\,
  emphasizing respect for human dignity. Observed by Jewish and other faith
 s. https://faithvictoria.org.au/upcoming-events/event/2370-yom-hashoah-jud
 aism
DTSTART;VALUE=DATE:20260414
LOCATION:RSEvents!Pro Location (Colorado\, USA)
SUMMARY:Yom HaShoah | Judaism
URL:https://faithvictoria.org.au/upcoming-events/event/2370-yom-hashoah-jud
 aism
END:VEVENT
BEGIN:VEVENT
UID:20260425T183402UTC-1386wLKJZR@https://faithvictoria.org.au/
DTSTAMP:20260425T183402Z
DESCRIPTION:BaisakhiTuesday 14 April 2026Religion: Sikhism\nVaisakhi is a s
 pring harvest festival that marks the founding of the collective body of a
 ll baptised Sikhs (Khalsa) by Guru Gobind Singh Ji. https://faithvictoria.
 org.au/upcoming-events/event/2371-baisakhi-vaisakhi-also-bakrami-samvat-si
 khism
DTSTART;VALUE=DATE:20260414
LOCATION:RSEvents!Pro Location (Colorado\, USA)
SUMMARY:Baisakhi (Vaisakhi) also Bakrami Samvat (Sikhism)
URL:https://faithvictoria.org.au/upcoming-events/event/2371-baisakhi-vaisak
 hi-also-bakrami-samvat-sikhism
END:VEVENT
END:VCALENDAR
